BEGIN:VCALENDAR
VERSION:2.0
PRODID:-//MBS Cyprus - ECPv6.6.4//NONSGML v1.0//EN
CALSCALE:GREGORIAN
METHOD:PUBLISH
X-WR-CALNAME:MBS Cyprus
X-ORIGINAL-URL:https://mbscyprus.com
X-WR-CALDESC:Events for MBS Cyprus
REFRESH-INTERVAL;VALUE=DURATION:PT1H
X-Robots-Tag:noindex
X-PUBLISHED-TTL:PT1H
BEGIN:VTIMEZONE
TZID:Europe/Moscow
BEGIN:STANDARD
TZOFFSETFROM:+0300
TZOFFSETTO:+0300
TZNAME:MSK
DTSTART:20220101T000000
END:STANDARD
END:VTIMEZONE
BEGIN:VEVENT
DTSTART;TZID=Europe/Moscow:20221017T080000
DTEND;TZID=Europe/Moscow:20221017T170000
DTSTAMP:20260425T031032
CREATED:20220829T160647Z
LAST-MODIFIED:20220829T160647Z
UID:10000036-1665993600-1666026000@mbscyprus.com
SUMMARY:Ερευνώντας την Αλήθεια | Ομάδα Αυτογνωσίας και Αηζωείας
DESCRIPTION:Οι «Ερευνητές της Αλήθειας» δεν χρειάζονται περισσότερη γνώση αλλά ειλικρινή επιθυμία να ερευνήσουν την Αλήθεια απ’ ευθείας\, δηλαδή τι και ποιοι είμαστε\, ώστε να απελευθερωθούμε από τον πόνο και τις ψευδαισθήσεις\, που προέρχονται από τον εγωισμό.\nΜε αυτήν την αρχή ξεκινάμε την ομάδα αυτογνωσίας και αηζωείας με σκοπό την έρευνα προς την αλήθεια.\n\nΣτόχος αυτών των μαθημάτων η Αυτοπραγμάτωση και Αυτογνωσία\, μέσω της Αγάπης προς τον εαυτό\, της Θέλησης για σύνδεση Πνεύματος\, Νόησης και Σώματος. Η ενότητα αυτών δημιουργεί τις προϋποθέσεις για επίτευξη και αειζωία.\n\nΠερισσότερα θα ανακοινωθούν\n\nΕισηγητής/Δάσκαλος: Χαράλαμπος Σολέας\nΠότε: Δευτέρα 17 Οκτωβρίου και κάθε μήνα για 9 μήνες\nΠου: Διαδικτυακά με Zoom\nΏρες: 18.00 με 21.00\nΤιμή: €150 για όλο τον χρόνο (9 συναντήσεις)\nΕγγραφή: https://zoom.us/…/tJYsdOGupjguEtdPK43U10lhg1L60wC1BRub \nΠερισσότερα τηλ. +35799609886 (viber and WhatsUp)
URL:https://mbscyprus.com/agenda/selfknowledge-wellbeing-team/
CATEGORIES:Life / Wellness Coaching,Meditation / Mindfulness,Mental & Emotional Wellness
ATTACH;FMTTYPE=image/jpeg:https://mbscyprus.com/wp-content/uploads/2022/08/live_your_truth_soleas.jpg
END:VEVENT
END:VCALENDAR