BEGIN:VCALENDAR
VERSION:2.0
PRODID:-//MBS Cyprus - ECPv6.6.4//NONSGML v1.0//EN
CALSCALE:GREGORIAN
METHOD:PUBLISH
X-WR-CALNAME:MBS Cyprus
X-ORIGINAL-URL:https://mbscyprus.com
X-WR-CALDESC:Events for MBS Cyprus
REFRESH-INTERVAL;VALUE=DURATION:PT1H
X-Robots-Tag:noindex
X-PUBLISHED-TTL:PT1H
BEGIN:VTIMEZONE
TZID:Europe/Moscow
BEGIN:STANDARD
TZOFFSETFROM:+0300
TZOFFSETTO:+0300
TZNAME:MSK
DTSTART:20230101T000000
END:STANDARD
END:VTIMEZONE
BEGIN:VEVENT
DTSTART;TZID=Europe/Moscow:20250517T160000
DTEND;TZID=Europe/Moscow:20250517T200000
DTSTAMP:20260425T010730
CREATED:20250415T141337Z
LAST-MODIFIED:20250416T083820Z
UID:10000122-1747497600-1747512000@mbscyprus.com
SUMMARY:Η Ζωή Είναι ΤΩΡΑ
DESCRIPTION:Η Ζωή Είναι ΤΩΡΑ: Τα 3 Κλειδιά για Προσωπική και Επαγγελματική Επιτυχία \nΗ Global Academy of Coaching (GAC)\, η μοναδική σχολή coaching σε Ελλάδα και Κύπρο με πιστοποίηση επιπέδου 1 και 2 από τη Διεθνή Ομοσπονδία Coaching (ICF)\, γιορτάζει την Παγκόσμια Εβδομάδα Coaching (International Coaching Week) με ένα εμπνευστικό\, βιωματικό workshop που θα πραγματοποιηθεί στη Λεμεσό\, Κύπρο. \nΣε αυτό το μοναδικό event\, η Master Certified Coach Jill Douka MBA MCC\, που ανήκει στο ανώτερο 4% των coaches παγκοσμίως\, ενώνει δυνάμεις με κορυφαίους αποφοίτους και coaches της Global Academy of Coaching\, για να προσφέρουν στο κοινό μια βαθιά εμπειρία προσωπικής ενδυνάμωσης και ηγετικής εξέλιξης. \n  \nΟΜΙΛΗΤΕΣ: \n\nΤζιλ Δούκα\, MBA\, MCC\nMaster Certified Coach | Ιδρύτρια της GAC | #1 Best Selling Συγγραφέας | Host του GAC Podcast\nΑιμιλία Κακαβάνη\nGlobal Academy of Coaching Student Coach | Προσωπική εξέλιξη & ενδυνάμωση σχέσεων\nΆννα Μιχαηλίδου\nHuman Resources Manager | Executive Coach | Απόφοιτη GAC\nΝικόλας Κανελλόπουλος\nLife Coach | Απόφοιτος GAC | Ειδικός στην προσωπική ενδυνάμωση\nΑλίκη Χριστοδούλου\nGAC Certified Life Coach | Επαγγελματίας στη φαρμακευτική βιομηχανία\nΧαριέττα Λιακάκη\nΨυχολόγος – Ψυχοθεραπεύτρια | GAC Graduate | Ειδική σε trauma & Gestalt therapy\nΑγγέλα Χατζηκώστα\nExecutive & Wellness Coach | Ειδικευμένη στην ισορροπία ζωής-εργασίας | GAC Graduate\nΚωνσταντίνα Τσόνη\nGAC Student | Background στον Τουρισμό | Life & Purpose Coaching\nΧριστίνα Χριστοφή\nΔιαιτολόγος | Life\, Business & Wellness Coach | GAC Graduate\nΈλενα Σοφοκλέους\nΣχέσεις\, φιλοξενία και coaching με έμφαση στη σύνδεση | GAC Graduate\n\n  \nΟι συμμετέχοντες θα κερδίσουν: \n\nΈμπνευση για να ακολουθήσεις τα όνειρά σου\nΣτρατηγική και ξεκαθάρισμα στόχων\nΠρακτικά εργαλεία coaching για εφαρμογή σε όλους τους τομείς της ζωής σου\nΔωρεάν 1:1 coaching συνεδρία με πιστοποιημένο coach της GAC\nNetworking drinks μετά το event στο υπέροχο bar του St. Raphael Resort\n\n  \nΚΡΑΤΗΣΕΙΣ:\nEarly bird συμμετοχή: €20 (περιορισμένες θέσεις)\nΤιμή στην είσοδο: €50\nΠερισσότερα ΕΔΩ \n  \nΓιατί να συμμετέχεις;\nΤο life coaching δεν είναι πολυτέλεια\, είναι προϋπόθεση για ζωή με σκοπό\, αφθονία και ισορροπία. Αυτό το workshop έχει σχεδιαστεί για όσους θέλουν να αναβαθμίσουν τη ζωή τους\, να ενισχύσουν την αυτοπεποίθησή τους και να αποκτήσουν πραγματική κατεύθυνση. \n 
URL:https://mbscyprus.com/agenda/global-academy-of-coaching/
LOCATION:St. Raphael Resort & Marina\, 52 Amathus Avenue\, Pyrgos\, Limassol\, 4534\, Cyprus
CATEGORIES:Life / Wellness Coaching
ATTACH;FMTTYPE=image/png:https://mbscyprus.com/wp-content/uploads/2025/04/Cyprus-MBS-Banner.png
ORGANIZER;CN="Jill Douka MCC / Global Academy of Coaching":MAILTO:info@globalacademyofcoaching.com
END:VEVENT
BEGIN:VEVENT
DTSTART;TZID=Europe/Moscow:20240511T160000
DTEND;TZID=Europe/Moscow:20240511T200000
DTSTAMP:20260425T010730
CREATED:20240417T104620Z
LAST-MODIFIED:20240426T135743Z
UID:10000093-1715443200-1715457600@mbscyprus.com
SUMMARY:To Πλάνο
DESCRIPTION:To Πλάνο: Πώς να Δημιουργήσεις Αρμονία\, Μοναδικές Σχέσεις και Αφθονία με το Life Coaching\n\n\n\nΞεκλείδωσε τα μυστικά για να πολλαπλασιάσεις την επιτυχία\, τις σχέσεις και τον πλούτο με την κορυφαία Master Certified Coach\, Τζιλ Δούκα MBA MCC στα πλαίσια της Παγκόσμιας Εβδομάδας Coaching! \n\n\n\n\n\n\nΕίσαι έτοιμος να ζήσεις ένα γεγονός που θα αλλάξει τη ζωή σου; \nΔήλωσε τώρα συμμετοχή σε ένα αποκλειστικό workshop με την Τζιλ Δούκα\, μία από τις κορυφαίες coaches στο 4% παγκοσμίως. Ανακάλυψε πώς μπορείς να αξιοποιήσεις τη δύναμη του life coaching για να επιτύχεις εκπληκτικά αποτελέσματα σε όλους τους τομείς της ζωής σου. \n  \nΤι Θα Κερδίσεις:\nΈμπνευση: Αναζωογόνησε το πάθος και το κίνητρο για να ακολουθήσεις τα όνειρά σου.\nΞεκαθάρισμα: Απόκτησε ένα σαφές σχέδιο για να αναβαθμίσεις τη ζωή σου σε ένα νέο επίπεδο.\nΕργαλεία: Μάθε πρακτικά εργαλεία και στρατηγικές που μπορείς να τις εφαρμόσεις αμέσως. \n  \n\n\n\n\n\n\n\n\nΓιατί να Συμμετέχεις;\nΤο life coaching δεν είναι μόνο για κάποιους – είναι για όλους όσους αναζητούν μια ζωή γεμάτη με νόημα και ικανοποίηση.\nΑυτό το workshop σχεδιάστηκε για να σε εξοπλίσει με τις γνώσεις και τις δεξιότητες που χρειάζεσαι για να δημιουργήσεις την αφθονία\, τις σχέσεις και την αρμονία που επιθυμείς.\nΓίνε μέλος μιας κοινότητας που πιστεύει στη μεταμόρφωση και την ανάπτυξη. Κλείσε τώρα τη θέση σου στην early bird τιμή προσφοράς! \n\n\n\n\n\n\n\n\n\n\n\n\nΟι θέσεις είναι περιορισμένες!\n\nΕίσαι έτοιμος για μια εμπειρία που θα αλλάξει τη ζωή σου; \nΜην χάσεις αυτή τη μοναδική ευκαιρία να πας τη ζωή σου στο επόμενο επίπεδο! \nΚράτησε τη θέση σου τώρα στην early bird τιμή. \n(Τιμή στην είσοδο €50) \n  \nΜε τη συμμετοχή σου στο Workshop θα λάβεις υπογεγραμμένο βιβλίο της Τζιλ Δούκα. \nΚατά την διάρκεια του workshop θα έχεις τη δυνατότητα να κάνεις 1:1 coaching με πιστοποιημένο coach της Global Academy of Coaching.
URL:https://mbscyprus.com/agenda/the-10xplan/
LOCATION:St. Raphael Resort & Marina\, 52 Amathus Avenue\, Pyrgos\, Limassol\, 4534\, Cyprus
CATEGORIES:Healthy Living / Self-care,Life / Wellness Coaching
ATTACH;FMTTYPE=image/png:https://mbscyprus.com/wp-content/uploads/2024/04/to-plano-final.png
ORGANIZER;CN="Jill Douka MCC / Global Academy of Coaching":MAILTO:info@globalacademyofcoaching.com
END:VEVENT
BEGIN:VEVENT
DTSTART;TZID=Europe/Moscow:20230520T170000
DTEND;TZID=Europe/Moscow:20230520T200000
DTSTAMP:20260425T010730
CREATED:20230502T081832Z
LAST-MODIFIED:20230511T084944Z
UID:10000061-1684602000-1684612800@mbscyprus.com
SUMMARY:Happiness\, Health & Abundance
DESCRIPTION:Happiness\, health & abundance: The 3 keys towards your own restart\nIs it possible to have everything in life\, even if you start working on them now?\nHow will you start and what are the 3 keys that will give you the push for your own total RESTART? \nJill Douka\, MBA\, Master Certified Coach\, in the 4% MCC credential holders\, after a unique tour with lectures and presentations in 2 continents and 2 countries (New York\, London) is coming to Cyprus for a unique Live Workshop that will talk about how you can have EVERYTHING you dream in your life by start working on them NOW. \nDo you want to do a total Restart and feel that you are building a life full of abundance and happiness\, having the best health and attracting only positive developments personally and professionally? \nNOW is the time for a new beginning. \nWill Saturday\, May 20th be the first day of your new life? \n“Change starts from within now!”\nJill Douka MBA\, MCC \n*At the Workshop you will have the opportunity to have your questions answered by Master Coach Jill Douka and listen the personal success stories of students and graduates of Global Academy of Coaching. \n*Many surprises and bonuses await you. \n*Don’t know if coaching is for you? At the Workshop you will have the opportunity to do a bonus laser session with a Certified Professional Life Coach and see how your life can change with coaching! \n“You have one job to do. To love yourself!”\nJill Douka MBA\, MCC \nThe Live Workshop Happiness\, Health and Abundance:\nThe 3 Keys towards your own RESTART will be held on Saturday\, May 20 at 5:00 p.m at St Raphael Resort & Marina\nSt Raphael Resort & Marina is at Amathus Avenue 502\, Pyrgos\, 4534\, Limassol\, Cyprus www.straphael.com \nWorkshop price: \n€20 Early Booking  1+1\n(registration via website)\n€40 registration on the day of the event \nBOOK YOUR TICKET
URL:https://mbscyprus.com/agenda/happiness-health-abundance/
LOCATION:St. Raphael Resort & Marina\, 52 Amathus Avenue\, Pyrgos\, Limassol\, 4534\, Cyprus
CATEGORIES:Life / Wellness Coaching,Mental & Emotional Wellness
ATTACH;FMTTYPE=image/jpeg:https://mbscyprus.com/wp-content/uploads/2023/05/happiness-health-abundance-1.jpg
ORGANIZER;CN="Jill Douka MCC / Global Academy of Coaching":MAILTO:info@globalacademyofcoaching.com
END:VEVENT
END:VCALENDAR