BEGIN:VCALENDAR
VERSION:2.0
PRODID:-//MBS Cyprus - ECPv6.6.4//NONSGML v1.0//EN
CALSCALE:GREGORIAN
METHOD:PUBLISH
X-ORIGINAL-URL:https://mbscyprus.com
X-WR-CALDESC:Events for MBS Cyprus
REFRESH-INTERVAL;VALUE=DURATION:PT1H
X-Robots-Tag:noindex
X-PUBLISHED-TTL:PT1H
BEGIN:VTIMEZONE
TZID:Europe/Moscow
BEGIN:STANDARD
TZOFFSETFROM:+0300
TZOFFSETTO:+0300
TZNAME:MSK
DTSTART:20240101T000000
END:STANDARD
END:VTIMEZONE
BEGIN:VEVENT
DTSTART;TZID=Europe/Moscow:20241101T130000
DTEND;TZID=Europe/Moscow:20241103T120000
DTSTAMP:20260424T230444
CREATED:20240319T103513Z
LAST-MODIFIED:20241019T113831Z
UID:10000091-1730466000-1730635200@mbscyprus.com
SUMMARY:Empowered New You
DESCRIPTION:Empowered New You |\nMindfulness and Self-Love Retreat\n  \nDr. Stephanos and Hélène have dedicated their love\, time and passion to create this retreat for you Each and every element of this retreat has been carefully chosen to provide you with the guidance and support to tap into your own unique purpose and inner power. \n  \nThe Empowered New You Retreat will be on mindfulness and self-love bridging neuroscience and spirituality with practical tools\, insights and ancient knowledge to help you understand your unique success blueprint and self-love patterns. \n  \nJoin us to dive into a transformative\, empowering healing journey. \n  \nPrice: \nEarly Bird Rate – Book by 3oth of July: \nShared Room €799 \nPrivate Ensuite Room € 1999 \nBook After 30th of July: \nShared Room €999 \nPrivate Ensuite Room €2222 \n  \nWhat’s Included: \n\n3-days\, 2-nights stay in Boutique Villa\nWholesome Breakfasts\, Lunches & Dinners\nMindfulness & Self- Love Wellness Pack\nYoga Flow Session with Michael\nHolographic Sound Healing Session\nGuatemalan Cacao Ceremony\nSacred Rituals\, & Ancient Ceremonies\nNeuroscience & Inner Psyche Session\nBiohacking Session\nBreathwork & Meditation Session\nVision Board and Visualization Session\nIce Baths Workshop\nSpinal Attunement Session with Kaya\nSwimming Pool & Fire Place\n\n\n“Reignite Your Inner Spark\, Embrace Inner Peace\, Love & Mindfulness. To Discover The Sanctuary Within.”\n  \nFacilitators: \nHélène Alexi Ioannides \n  \nHélène Alexi Ioannides is a renowned Empowerment\, Embodiment and Wellness Coach dedicated to supporting & coaching women and businesses run by women\, towards unapologetic authenticity and guiding them to step into their true unlimited power. \nHélène is a certified holographic sound healer\, holotropic breathwork and women’s circle facilitator\, a trauma informed specialist and a somatic & spiritual empowerment mentor. \n  \nDr. Stephanos Ioannou \nDr. Stephanos Ioannou stands at the forefront of neuroscience as a Psychophysiologist\, Neuroscientist\, and Professor of Neurophysiology. Notably\, his collaborative projects span from LEGO to esteemed institutions like MIT and Harvard. \nAs the founder of the Limassol Psychological Wellbeing Centre\, Dr. Stephanos offers his expertise in coaching and counseling. He specializes in stress\, anxiety\, and relationship therapy\, making him an invaluable asset to any podcast exploring the intricacies of the human body & mind. \n  \nContact: \nHélène Alexi Ioannides 99389778 or on helene@enyempowerednewyou.com
URL:https://mbscyprus.com/agenda/empowered-new-you/
LOCATION:Luxury Villa\, Lefkara\, Cyprus
CATEGORIES:Life / Wellness Coaching,Mental & Emotional Wellness,Movement / Dancing
ATTACH;FMTTYPE=image/jpeg:https://mbscyprus.com/wp-content/uploads/2024/03/empowered.jpg
ORGANIZER;CN="H%C3%A9l%C3%A8ne Alexi Ioannides":MAILTO:helene@enyempowerednewyou.com
END:VEVENT
BEGIN:VEVENT
DTSTART;TZID=Europe/Moscow:20240705T130000
DTEND;TZID=Europe/Moscow:20240707T120000
DTSTAMP:20260424T230444
CREATED:20240429T094945Z
LAST-MODIFIED:20240603T114330Z
UID:10000095-1720184400-1720353600@mbscyprus.com
SUMMARY:Elevate You | Wellness & Spiritual Empowerment Retreat
DESCRIPTION:Elevate You | Wellness & Spiritual Empowerment Retreat\n  \nElevate You is a  3-day immersive retreat focused on wellness\, and spiritual empowerment and awareness. \nIt is a transformative space that will bridge the elements of neuroscience\, with wellbeing\, spirituality and creativity using practical tools\, insights and ancient knowledge to help you consciously understand\, heal and play\, exploring parts of yourself that need love and empowerment. \nJoin us to dive into a unique\, spiritually empowering and healing journey.  \n  \nPrice: \nEarly Bird Rate – Book by the 10th of June: \nShared Room €799 \nPrivate Ensuite Room € 1999 \nBook After the 10th of June:– \nShared Room €999 \nPrivate Ensuite Room €2222 \n  \nFacilitators: \n  \nHélène Alexi Ioannides  \nHélène Alexi Ioannides is a renowned Empowerment\, Embodiment and Wellness Coach dedicated to supporting & coaching women and businesses run by women\, towards unapologetic authenticity and guiding them to step into their true unlimited power. \nHélène is a certified holographic sound healer\, holotropic breathwork and women’s circle facilitator\, a trauma informed specialist and a somatic & spiritual empowerment mentor. \n  \nDr. Stephanos Ioannou \nDr. Stephanos Ioannou stands at the forefront of neuroscience as a Psychophysiologist\, Neuroscientist\, and Professor of Neurophysiology. Notably\, his collaborative projects span from LEGO to esteemed institutions like MIT and Harvard. \nAs the founder of the Limassol Psychological Wellbeing Centre\, Dr. Stephanos offers his expertise in coaching and counseling. He specializes in stress\, anxiety\, and relationship therapy\, making him an invaluable asset to any podcast exploring the intricacies of the human body & mind. \n  \n\nFor more info please contact: \nHélène Alexi Ioannides 99389778 or on helene@enyempowerednewyou.com \n\nFollow us on: \nhttps://www.instagram.com/iamhelenealexiioannides/ \nhttps://www.instagram.com/drstephanos_neuroscientist/ \nhttps://www.instagram.com/empowerednewyou/  \n 
URL:https://mbscyprus.com/agenda/elevate-you/
LOCATION:Luxury Villa in Paphos\, Cyprus
CATEGORIES:Meditation / Mindfulness,Mental & Emotional Wellness,Movement / Dancing
ATTACH;FMTTYPE=image/png:https://mbscyprus.com/wp-content/uploads/2024/04/elevate-you.png
ORGANIZER;CN="H%C3%A9l%C3%A8ne Alexi Ioannides":MAILTO:helene@enyempowerednewyou.com
END:VEVENT
END:VCALENDAR