BEGIN:VCALENDAR
VERSION:2.0
PRODID:-//MBS Cyprus - ECPv6.6.4//NONSGML v1.0//EN
CALSCALE:GREGORIAN
METHOD:PUBLISH
X-ORIGINAL-URL:https://mbscyprus.com
X-WR-CALDESC:Events for MBS Cyprus
REFRESH-INTERVAL;VALUE=DURATION:PT1H
X-Robots-Tag:noindex
X-PUBLISHED-TTL:PT1H
BEGIN:VTIMEZONE
TZID:Europe/Moscow
BEGIN:STANDARD
TZOFFSETFROM:+0300
TZOFFSETTO:+0300
TZNAME:MSK
DTSTART:20220101T000000
END:STANDARD
END:VTIMEZONE
BEGIN:VEVENT
DTSTART;VALUE=DATE:20221028
DTEND;VALUE=DATE:20221031
DTSTAMP:20260425T005807
CREATED:20220907T115159Z
LAST-MODIFIED:20220912T080003Z
UID:10000039-1666915200-1667174399@mbscyprus.com
SUMMARY:Тантра-ретрит на русском языке
DESCRIPTION:Первый на Кипре тантра ретрит на русском языке ❤️❤️❤️\n\nСпециально для нас на остров прилетает очень проявленный мастер тантры??✨\, Александр Волков\n\n28-30 октября в Лачи\, в Aphrodite beach hotel будем погружаться в теорию и практику??\n\nРетрит для всех\, кто хочет мира внутри себя\, гармонизации отношений внутреннего и внешнего миров.\nТантра ретрит научит многим простым практикам\, которые ты сможешь использовать для управления сексуальной энергией\, твоего источника сил\, связей и коммуникаций с другими.\nТантра ретрит научит тебя осознавать и принимать женское и мужское внутри\, чтобы лучше понимать партнёрство во внешней жизни.\n\nВсе детали на сайте tantracyprus.tilda.ws
URL:https://mbscyprus.com/agenda/russian-tantra-retreat/
LOCATION:Aphrodite Beach Hotel\, Rigenas 62\, Poli Crysochous\, Paphos\, 8831\, Cyprus
CATEGORIES:Healing,Healthy Living / Self-care,Mental & Emotional Wellness
ATTACH;FMTTYPE=image/jpeg:https://mbscyprus.com/wp-content/uploads/2022/09/russian_tantra_retreat-e1662551507682.jpeg
END:VEVENT
END:VCALENDAR