BEGIN:VCALENDAR
VERSION:2.0
PRODID:-//MBS Cyprus - ECPv6.6.4//NONSGML v1.0//EN
CALSCALE:GREGORIAN
METHOD:PUBLISH
X-WR-CALNAME:MBS Cyprus
X-ORIGINAL-URL:https://mbscyprus.com
X-WR-CALDESC:Events for MBS Cyprus
REFRESH-INTERVAL;VALUE=DURATION:PT1H
X-Robots-Tag:noindex
X-PUBLISHED-TTL:PT1H
BEGIN:VTIMEZONE
TZID:Europe/Moscow
BEGIN:STANDARD
TZOFFSETFROM:+0300
TZOFFSETTO:+0300
TZNAME:MSK
DTSTART:20220101T000000
END:STANDARD
END:VTIMEZONE
BEGIN:VEVENT
DTSTART;TZID=Europe/Moscow:20221021T183000
DTEND;TZID=Europe/Moscow:20221023T180000
DTSTAMP:20260424T233745
CREATED:20220928T100708Z
LAST-MODIFIED:20221017T110052Z
UID:16807-1666377000-1666548000@mbscyprus.com
SUMMARY:ΣΕΜΙΝΑΡΙΟ ΒΑΣΙΚΟΥ ΕΠΙΠΕΔΟΥ THETAHEALING®
DESCRIPTION:Με χαρά σας προσκαλούμε στη Βασική Εκπαίδευση Basic ThetaHealing®\, της φυσικής\, Ενεργειακής Τεχνικής που βελτιώνει τη ζωή μας σε όλους τους τομείς! \nΗ Εκπαίδευση θα γίνει στις 21 – 23 Οκτωμβρίου 2022\nΠαρασκευή 21/10/ 2022 – 18:30-21:30\nΣάββατο 22/10/2022 – 11:00 -18:00\nΚυριακή 23/10/2022 – 11: 00 -18:00 \nΘα γίνει διαδικτυακά στην πλατφόρμα Zoom και με δυνατότητα φυσικής παρουσίας. \nΑπευθύνεται σε όλους όσους θέλουν να γίνουν Theta Healers της ζωής τους \, παίρνοντας γνώσεις και εργαλεία που μπορούν να εφαρμοστούν άμεσα σε όλους τους τομείς! \nΟλοκληρώνοντας την Εκπαίδευση\, δίνεται Διεθνής Πιστοποίηση Θεραπευτή Βασικού Επιπέδου.\nΑπευθύνεται επίσης σε θεραπευτές όλων των ειδικοτήτων \, που μπορούν να συνδυάσουν την Τεχνική και με άλλες με ασφάλεια για καλύτερα αποτελέσματα. \nΟι συνεδρίες ThetaHealing® γίνονται και από απόσταση\, αυτό είναι ένα επιπλέον πλεονέκτημα για όλους. \nΤο ThetaHealing® αλλάζει τη ζωή μας και τη ζωή των γύρω μας άμεσα! \nΌταν το μυαλό μας βρίσκεται σε “συχνότητα Θήτα”\, μας δίνεται η δυνατότητα να επηρεάζουμε θετικά το υποσυνείδητο\, φέρνοντας θετικές αλλαγές και υλοποιώντας ότι θέλουμε! \nΕλάτε κι ανακαλύψτε πώς να\n• Αλλάζετε τη πραγματικότητα μέσω των Ειδικών Εργαλείων της Τεχνικής\n• Θωρακίζετε την αύρα σας και να καθαρίζετε ενεργειακά τους χώρους\n• Απελευθερώσετε τα αρνητικά συναισθήματα που εμποδίζουν τη χαρά\n• Απελευθερώσετε αρνητικά προγράμματα/πεποιθήσεις που σας μπλοκάρουν\n• Μειώσετε το στρες και να πετύχετε ισορροπία στο μυαλό\, σώμα και πνεύμα\n• Βελτιώσετε Τη Σωματική σας Υγεία και Ευεξία\n• Γίνετε θεραπευτής ThetaHealing®\n• Βελτιώσετε τις σχέσεις σας\, προσελκύσετε τον Συμβατό σύντροφο Ζωής\n• Αποκτήσετε Αφθονία σε όλους τους τομείς της ζωής σας\n• Δημιουργήσετε μια θετική στάση ζωής και να βρείτε την Αρμονία μέσα σας\n• Να μπορείτε να υλοποιείτε με Επιτυχία τους στόχους σας\n• Να έχετε Οικονομική Αφθονία \nΗ Εκπαίδευση περιλαμβάνει Εγχειρίδιο Basic ThetaHealing®\, Βιβλίο Βασικού Επιπέδου\, καθοδηγούμενο Διαλογισμό και Διεθνή Πιστοποίηση από το ThetaHealing® Institute of Knowledge. \nΗ Βασική Εκπαίδευση θα γίνει από την Αντιγόνη Λουκά – ThetaHealing® Master και Certificate of Science\, Πτυχιούχο Φυσικής Αγωγής/Φυσιοθεραπείας\, Holistic Wellness Coach με 30 χρόνια εμπειρίας στο χώρο της Ολιστικής προσέγγισης Υγείας\, Ευεξιας\, Προσωπικής Ανάπτυξης. \nΘα ακολουθήσουν οι εξής Πιστοποιημένες Εκπαιδεύσεις THETAHEALING® \nΠΡΟΧΩΡΗΜΕΝΗ ΕΚΠΑΙΔΕΥΣΗ\n25 – 27/11/ 2022\nΒΑΘΥ ΣΚΑΨΙΜΟ\n10 – 11/12/2022\nΕΣΥ ΚΑΙ Ο ΔΗΜΙΟΥΡΓΟΣ\n17 – 18/12/2022 \nΜε την ολοκλήρωση του κύκλου Εκπαιδεύσεων\, θα μπορείτε να εργαστείτε\, αν το επιθυμείτε σαν Πιστοποιημένος Θεραπευτής ThetaHealing®.\nΓΙΑ ΕΓΓΡΑΦΕΣ \nhttps://tinyurl.com/ykch4vjz
URL:https://mbscyprus.com/agenda/thetahealing-basic-seminar/
CATEGORIES:Life / Wellness Coaching,Mental & Emotional Wellness
ATTACH;FMTTYPE=image/jpeg:https://mbscyprus.com/wp-content/uploads/2022/09/theta_healing_certified_seminar.jpg
END:VEVENT
END:VCALENDAR