BEGIN:VCALENDAR
VERSION:2.0
PRODID:-//MBS Cyprus - ECPv6.6.4//NONSGML v1.0//EN
CALSCALE:GREGORIAN
METHOD:PUBLISH
X-ORIGINAL-URL:https://mbscyprus.com
X-WR-CALDESC:Events for MBS Cyprus
REFRESH-INTERVAL;VALUE=DURATION:PT1H
X-Robots-Tag:noindex
X-PUBLISHED-TTL:PT1H
BEGIN:VTIMEZONE
TZID:Europe/Moscow
BEGIN:STANDARD
TZOFFSETFROM:+0300
TZOFFSETTO:+0300
TZNAME:MSK
DTSTART:20230101T000000
END:STANDARD
END:VTIMEZONE
BEGIN:VEVENT
DTSTART;TZID=Europe/Moscow:20230211T170000
DTEND;TZID=Europe/Moscow:20230211T183000
DTSTAMP:20260419T154041
CREATED:20221024T112036Z
LAST-MODIFIED:20230125T120719Z
UID:10000045-1676134800-1676140200@mbscyprus.com
SUMMARY:Group Hypnosis on "I AM NOT ENOUGH" based on the RTT by Marisa Peer
DESCRIPTION:Online event of group hypnosis based on the RTT- Rapid Transformational Therapy developed by Marisa Peer with the theme of “I AM NOT ENOUGH”\n  \nThe numbers of depression\, addiction\, and people being emotionally challenged are going crazy right now and there is a way out! Hypnotherapy is a fast\, safe and effective approach with long-lasting results because it works directly with the subconscious (the 95% of the mind) and the root of the problem without the defences and blocks of the ego (i.e. conscious mind 5%). \nJust imagine this: we form our personalities by the age of 7 and until that age the parts of the mind that are responsible for critical thinking are not developed yet\, which means that we take everything in with no filter or the ability to question what’s happening. As a result and by definition a distorted interpretation is given by us as children\, which we adopt as traumas and limitations that end up dictating our perception of reality\, how we show up\, relate to others and experience Life. \nIt’s not until the 95% of the mind is visited for the individual to become aware and evaluate these to finally be able to decide to let go and start defining their own values\, beliefs\, and what they consider true in the first place instead of living a Life as a result of everything absorbed in early years from their parents\, school\, extended family\, society\, and whatever was happening at the time. \nWhat if Hypnosis is the way to awaken? To let go of everything that is not us and finally get some answers?\nJoin us for a discussion and a group RTT session on “I AM not enough”\, which is known to be one of the deepest roots of our fears and insecurities. \nLocation: Zoom – link to be shared with participants upon payment. \nCost: €37 \nPayment Link \n  \nFacebook\nT: 99 318 145
URL:https://mbscyprus.com/agenda/shared-rtt-experience/
CATEGORIES:Healing,Life / Wellness Coaching,Mental & Emotional Wellness
ATTACH;FMTTYPE=image/png:https://mbscyprus.com/wp-content/uploads/2022/10/RTT-event-banner-.png
END:VEVENT
END:VCALENDAR