BEGIN:VCALENDAR
VERSION:2.0
PRODID:-//MBS Cyprus - ECPv6.6.4//NONSGML v1.0//EN
CALSCALE:GREGORIAN
METHOD:PUBLISH
X-WR-CALNAME:MBS Cyprus
X-ORIGINAL-URL:https://mbscyprus.com
X-WR-CALDESC:Events for MBS Cyprus
REFRESH-INTERVAL;VALUE=DURATION:PT1H
X-Robots-Tag:noindex
X-PUBLISHED-TTL:PT1H
BEGIN:VTIMEZONE
TZID:Europe/Moscow
BEGIN:STANDARD
TZOFFSETFROM:+0300
TZOFFSETTO:+0300
TZNAME:MSK
DTSTART:20220101T000000
END:STANDARD
END:VTIMEZONE
BEGIN:VEVENT
DTSTART;TZID=Europe/Moscow:20221008T163000
DTEND;TZID=Europe/Moscow:20221105T183000
DTSTAMP:20260419T203150
CREATED:20220912T075528Z
LAST-MODIFIED:20221116T102801Z
UID:10000041-1665246600-1667673000@mbscyprus.com
SUMMARY:The Y Program
DESCRIPTION:The Y Program is a 12 week program divided into 3 parts.\nAll level practitioners are welcome\, beginners to advanced. It is a two hour yoga class\, once a week live with founder Nicole Joannides at Yoga Love Story studio in Nicosia. Each part aims to awaken your true creative potential.\nWant to reconnect your Body\, Mind and Spirit to live the life that you deserve? This is for you! \nWHAT WILL YOU LEARN IN OUR TIME TOGETHER\nPart 1 Awareness of the body.\nUnderstanding how the body moves\, how it keeps stress that causes chronic pain like back/neck/shoulder\, due to sitting at computers or holding babies for long hours. You will learn how to bring awareness to the Mind of how our Body feels in different poses\, what feels good or not and through this understanding\, connecting breath to the body\, to relax\, rejuvenate and reconnect.\nWeek 1 to 4.\nPart 2 Breath Focus.\nHow do we reconnect to our breath and how our breath is the tool that can nourish your Body and Mind. What happens to your body when you’re stressed? What happens when you feel confident and strong? Reconnect the Body\nand the Breath to quiet the Mind.\nWeek 5-8.\nPart 3 Interlinking Body\, Breath to relax the Mind.\nOften when we carry stress\, the Mind forms thoughts that cause that stress. The Y Program will teach you to reconnect and ‘control’\nall three aspects that make up the person you are\, Body\, Mind and Breath. You will learn ways of dealing with stress and anxiety\, how to acknowledge chronic trauma and pain\, relax the Mind for better sleep\, yoga poses and easy mindful exercises that can be used in your everyday life.\nWeek 9-12. \nYou will learn to reconnect to your Body\, Mind and Spirit to reach your true potential of creativity\, productivity so that you can live the life that you deserve. Pain free!\nTo help you stop feeling stuck in a life that is not meant for you! \nCOST\nThe Y Program runs in three parts. All parts are interlinked. They can also be done separately however it is not recommended as each week builds up on the next.\nCost for each part is €180. If payment is done upfront for all three parts cost is €450.\nMonthly installments can be arranged. \nDATES AND TIMES\nStarting Saturday at 16:30-18:30\, 8th October 2022 and ending on\nthe 21st January 2023.\nPart 1 – 8/10/22\, 15/10/22\, 22/10/22 and 5/11/22.\n———————————————————\nPart 2 – 12/11/22\, 19/11/22\, 26/11/22 and 3/12/22.\n———————————————————\nPart 3 – 10/12/22\, 17/12/22\, 14/01/23 and 21/01/23 \nHOW TO JOIN\nPlease contact Nickie Constandinidou 99420303.\nFirst come first served policy due to limited mat space.\nLooking forward to seeing you on the mat in few breaths!
URL:https://mbscyprus.com/agenda/the-y-program/
LOCATION:Yoga Love Story\, 29 Stasinou\, Strovolos\, Nicosia\, 2003\, Cyprus
CATEGORIES:Yoga
ATTACH;FMTTYPE=image/jpeg:https://mbscyprus.com/wp-content/uploads/2022/09/y-program-scaled.jpg
END:VEVENT
BEGIN:VEVENT
DTSTART;VALUE=DATE:20221022
DTEND;VALUE=DATE:20230116
DTSTAMP:20260419T203150
CREATED:20220706T125136Z
LAST-MODIFIED:20220822T102231Z
UID:10000026-1666396800-1673827199@mbscyprus.com
SUMMARY:200HRs Hatha Yoga Teacher Training
DESCRIPTION:Want to become a Yoga Teacher? Ready to change your life? Then here is the training you have been waiting for!\nCocoon Wellness Centre welcomes you to a unique and comprehensive training that will alter your life forever. \nThis 9 weekend Part-time training will give you all the tools\, knowledge and skills to become not only a qualified teacher\, but also a better version of yourself. It will hold you through all the stages of your transformation\, and give you the suitable wings to fly to a new stage of your life\, like a cocoon transforming to a butterfly.\n\nThe 200hours part-time Yoga Teacher training will cover all the following topics:\n– Yoga Philosophy\n– Yoga Asanas\n– Meditation Techniques\n– Mantras\n– Pranayama\n– Chakras\n– Introduction to Mudras\, Bandhas\, Kriyas\n– Introduction to Ayurveda\n– Introduction to Marma Therapy\n– Basic Anatomy\n– Alignments & Adjustments\n– Yogic Lifestyle\, Ethics\, Teaching Methods and Business Skills\n– Various types of Yoga (Kundalini\, Yin\, Aerial\, Partner\, Yoga Nidra)\n– Mindfulness & Gratitude\n\nTraining will be taught by Egli Ioannou (Msc Psychology\, 200Hrs Yoga\, Aerial Yoga\, SUP Yoga) and Anastasia Angelidou (200Hrs Yoga\, Aerial Yoga\, Prenatal Yoga\, Prana Vinyasa Yoga).\nThis training is certified by Yoga Alliance International.\nStudents will be given a world-wide recognised teaching certificate in completing their training and full payment of training.\nThe training is suitable for people who have been practicing Yoga and are interested in teaching yoga or expanding their own knowledge of the topic for their own benefit.\nDATES\n9 weekends starting 22nd of October – 15th of January (with a weekend break in November\, and 3 weekends Christmas break before final exams)\nEARLY BIRD PRICE\n(until the 15/09) €1750\nNORMAL PRICE\n€1900\nPayment can be made in instalments.\nFor more information or to book your spot please contact us on 99325558 or through our Facebook Page.
URL:https://mbscyprus.com/agenda/hatha-yoga-teacher-training/
LOCATION:Cocoon Wellness Centre\, 130 Athalassis Avenue\, ap. 201\, Nicosia\, 2024
CATEGORIES:Yoga
ATTACH;FMTTYPE=image/jpeg:https://mbscyprus.com/wp-content/uploads/2022/07/16.9_teacher_training.jpg
ORGANIZER;CN="Coccoon Wellness Centre":MAILTO:cocoonwellnesscentre@gmail
END:VEVENT
BEGIN:VEVENT
DTSTART;VALUE=DATE:20221102
DTEND;VALUE=DATE:20221109
DTSTAMP:20260419T203150
CREATED:20220819T121922Z
LAST-MODIFIED:20220822T095508Z
UID:10000032-1667347200-1667951999@mbscyprus.com
SUMMARY:Holistic Healing & Reiki 1 Certification Retreat
DESCRIPTION:Set under bright-blue skies and surrounded by an azure blue sea\, the island of Cyprus offers you a chance to escape\, connect\, learn\, relax and heal. With a wide array of creative\, spiritual or healing activities\, guests can bespoke their own inspirational break in a supportive community environment with sandy beaches close by. Culture\, delicious Cypriot cuisines\, relaxation\, sunbathing\, sightseeing\, fun and freedom are at the heart of this creative and transformational adventure. \nA retreat that offers therapy and/or other well-being activities to help you make yourself a priority and put your life under the spotlight. As you take gentle walks in nature or at the seashore or sit quietly and meditate\, you’ll start to feel more in the now\, and your passion for life in the present moment will re-ignite. \nYou will clear your emotional fog\, declutter your mind\, calm your emotions and rid yourself of negative energy\, as you work through emotions\, such as anger\, sadness\, frustration\, fear\, jealousy\, and low self-esteem. Allowing\, joy\, liberation\, love and lightness into our hearts. You will leave having received a Reiki 1 attunement allowing you to give yourself Reiki and to give it to others through distant healing. \nInclusions:\n6 nights Bed and Breakfast in the 4* Athena Beach Hotel \nAll Breakfasts\, 4 dinners and 2 lunches \n1 full day excursion to the Baths of Aphrodite: Geroskipou Village\, St. Paraskevi Church\, St. Neofytos Monastery\, Coffee break at Polis Village\, Baths of Aphrodite (free time and lunch\, Latchi Harbour) \n1 afternoon in The Tombs of The Kings followed by a dinner at the Harbour \n1  breathtaking Sunset view BBQ Cruise (should sea condition allows): swimming stop\, use of kayaks\, BBQ meal\, live music \nReiki 1 Certified workshop \n3 Yoga Sessions \n2 Qi Gong Sessions \n1 Trauma Release Exercises session \n1 laughter yoga session \n1 Art Therapy session \n1 Aromatherapy workshop \n1 Sound Healing Meditation \n1 Cocoa Ceremony \n  \nCost:\n€ 1800 Twin share\n€ 2500 Private Room
URL:https://mbscyprus.com/agenda/healing-reiki-certification-retreat/
LOCATION:Athena Beach Hotel\, Poseidonos Avenue\, Paphos\, 8101\, Cyprus
CATEGORIES:Food,Healing,Healthy Living / Self-care,Meditation / Mindfulness,Mental & Emotional Wellness,Sound Healing,Tai chi / Qigong,Trips / Travelling,Yoga
ATTACH;FMTTYPE=image/jpeg:https://mbscyprus.com/wp-content/uploads/2022/08/16.9_healing_reiki_retreat_certificate-1.jpg
END:VEVENT
BEGIN:VEVENT
DTSTART;TZID=Europe/Moscow:20221105T090000
DTEND;TZID=Europe/Moscow:20221106T210000
DTSTAMP:20260419T203150
CREATED:20220826T100610Z
LAST-MODIFIED:20220826T100610Z
UID:10000035-1667638800-1667768400@mbscyprus.com
SUMMARY:Rebalance Mind\, Body and Life Reiki 1 Certification
DESCRIPTION:A retreat that offers therapy and/or other well-being activities to help you make yourself a priority and put your life under the spotlight. \nYou will clear your emotional fog\, calm your emotions and rid yourself of negative energy\, as you work through emotions\, such as anger\, sadness\, frustration\, fear\, jealousy\, and low self-esteem. Allowing\, joy\, liberation\, love and lightness into our hearts.\nYou will leave having received a Reiki 1 Certification allowing you to give yourself Reiki and to give it to others through distant healing. It will be your door to a Reiki Practitioner path! \nSaturday November 5\n9 am      Participants Arrival and Refreshments\n10 am    Reiki 1 Attunement – Practice\n1 pm      Lunch\n3 pm      Reiki 1 practice\n5 pm      Free Time\n7 pm      Sunset Cocoa Ceremony\nFree time\, grab dinner with new friends\, relax\, journal\, star gaze \n  \nSunday November 6 \n8 am      Qi gong\n9 am      Breakfast\n10 am    Reiki Circle\n11 am    Sound Healing Meditation\n1 pm      Lunch & Time to Rest and Restore\n5 pm      Sunset BBQ Cruise (with dinner and live entertainment)\n9 pm      Participants departure \n  \nInclusions\nReiki 1 Certification\n2 lunches\n1 Sunset cruise and dinner\n1 Cocoa Ceremony\n1 Sound healing meditation \nPrice\n€440 in a twin shared room\n€680 in a private room
URL:https://mbscyprus.com/agenda/reiki-1-certification-weekend/
CATEGORIES:Healing,Healthy Living / Self-care,Sound Healing,Tai chi / Qigong
ATTACH;FMTTYPE=image/png:https://mbscyprus.com/wp-content/uploads/2022/08/Reiki-1-Certification-Healing-Weekend-1280-×-720-px.png
END:VEVENT
BEGIN:VEVENT
DTSTART;TZID=Europe/Moscow:20221109T170000
DTEND;TZID=Europe/Moscow:20221113T200000
DTSTAMP:20260419T203150
CREATED:20220622T100932Z
LAST-MODIFIED:20220822T100320Z
UID:10000023-1668013200-1668369600@mbscyprus.com
SUMMARY:Millionaire Business School Congress
DESCRIPTION:Millionaire Business School Congress\nwith Peter Sage\n  \nOver four days this unique event weaves together the ten most powerful Master Skills that are practiced by all elite entrepreneurs and are fundamental to high performance.These Skills are taught in precise detail throughout the three days as you are taken through a journey. First of personal transformation and then right into the nuts and bolts of explosive business growth. \n\nAbout Peter Sage\nPeter Sage is an international serial entrepreneur\, best-selling author and expert in human behaviour. As a speaker and coach and has spoken on five continents\, sharing the stage with the likes of Sir Richard Branson and President Bill Clinton. In 2013 he was awarded the distinguished Brand Laureate Award from the Asian Pacific Brands Foundation for extraordinary individuals.Previous winners include Nelson Mandela\, Steve Jobs\, Hilary Clinton & Tiger Woods.In 2015 he was named one of the greatest leaders and entrepreneurs by Inspiring Leadership Now alongside Sir Richard Branson\, Elon Musk and Mark Zuckerberg. \nMultiple No. 1 International Best-Selling AuthorPeter is the Co-author of ‘Lessons Learned from the Recession’ from the Business Leaders Book Club and his book ‘5 Keys To Master Your Life’ became an Amazon No. 1 best seller in its first week. \nPeter has also co-authored ‘Taking The Leap – How To Build A World Class Coaching Business’ with Jack Canfield\, and written dozens of articles published in numerous magazines\, newspapers and journals over the last three decades. \nHis latest book ‘The Inside Track’ also hit the No.1 Bestseller list on the day of its launch. It covers Peter’s unique journey of being the only non-criminal in Britain’s toughest jail when he was found in contempt on a civil dispute.\nA dispute he was later exonerated from.The book has won global acclaim for both its ability to change lives and the lasting impact Peter had on the prison system\, leaving a legacy that continues to positively affect thousands of prisoners each month. \nPeter is an accomplished athlete having completed several marathons and the formidable Marathon des Sables – widely recognized as the toughest footrace in the world. \nHe is a qualified open water diver\, an experienced skydiver and national champion marksman.\nIn addition\, he has personally raised over $1m dollars for good causes all over the world. \n  \nFor the complete information visit\nMillionaire Business School Congress with Peter Sage (awakenpotential.org)
URL:https://mbscyprus.com/agenda/millionaire-business-school-congress/
LOCATION:Aphrodite Hills Golf Resort\, 3\, Aphrodite Avenue\, Kouklia\, Paphos\, 8509\, Cyprus
ATTACH;FMTTYPE=image/jpeg:https://mbscyprus.com/wp-content/uploads/2022/06/millionaire_busineess_school-e1661162588818.jpg
END:VEVENT
BEGIN:VEVENT
DTSTART;VALUE=DATE:20221113
DTEND;VALUE=DATE:20221114
DTSTAMP:20260419T203150
CREATED:20221021T121802Z
LAST-MODIFIED:20221021T121802Z
UID:10000049-1668297600-1668383999@mbscyprus.com
SUMMARY:The Millionaire Mindset
DESCRIPTION:The Millionaire Mindset\nGrow Your Business And Build Sustainable Wealth With The EXPERT Knowledge\nFrom These 6 Industry Leading Entrepreneurs And Investors\nWhat this event is in just a few words…\n– It is REALLY rare to have six speakers of this caliber together for a day of JAM PACKED business and life enhancing value.\n– You will be spoon fed SERIOUS high level knowledge in all these areas WITHOUT a major investment…\n– You’ll be walking away with the latest and MOST effective strategies in the most CRUCIAL aspects of your life and business. \nCheck out this once-in-a-lifetime opportunity. Early bird tickets are still available ??\nhttps://bit.ly/msbc2022Cyprus \nYou’ll discover…\n– How to MASTER social media and branding WITHOUT spending ANY more time then you already do online!\n– The power of the subconscious mind and HOW to program it for wealth and abundance!\n– How to provide THE BEST possible experience for your clients and customers so they become overnight RAVING FANS FOR LIFE!\n– Where to start investing even if you don’t have money now!\n– Become a relationship expert by understanding the 4 main archetypes people operate under so you can always understand them and best serve them!\n– Build wealth like a MACHINE by learning the BEST investment principles from Robert Rolih\, author of one of the HIGHEST RATED investment books of all time\, ‘The Million Dollar Decision.’\n– How to be seen as the Go-To authority in your industry so you QUICKLY build trust with your audience!\n– Discover the habits and tactics shared by HIGH LEVEL executives that continuously set them up for success time and time again!\n– The REAL triggers that get people to buy from you! Doesn’t matter whether you have a business or not\, having this knowledge in your back pocket will set you up for prosperity!\n– How to develop a positive outlook on life and most importantly\, yourself!\nAnd much MUCH more!\nWe invite you to an exclusive event\, visited by entrepreneurs from around the globe ? – Millionaire Business School\, Cyprus 2022. \nBuild life changing wealth with the EXPERT knowledge from these 5 industry leading entrepreneurs and investors\nhttps://bit.ly/msbc2022Cyprus
URL:https://mbscyprus.com/agenda/the-millionaire-mindset/
LOCATION:Aphrodite Hills Golf Resort\, 3\, Aphrodite Avenue\, Kouklia\, Paphos\, 8509\, Cyprus
ATTACH;FMTTYPE=image/jpeg:https://mbscyprus.com/wp-content/uploads/2022/10/millionaire_mindset_event.jpg
ORGANIZER;CN="Insight Seminars":MAILTO:contact@insightseminars-cy.org
END:VEVENT
BEGIN:VEVENT
DTSTART;TZID=Europe/Moscow:20221128T180000
DTEND;TZID=Europe/Moscow:20230122T200000
DTSTAMP:20260419T203150
CREATED:20221019T141054Z
LAST-MODIFIED:20221024T114337Z
UID:10000048-1669658400-1674417600@mbscyprus.com
SUMMARY:LAUGHTER YOGA TRAININGS
DESCRIPTION:LAUGHTER YOGA TRAININGS\nLAUGHTER YOGA BASIC\n1st Online Option \nMonday 28/11/2022\nTuesday 29/11/2022\nTuesday 1/12/2022\nTime: 18:00 – 20:00 \n2nd Online and In-Person Option\nSaturday 21/1/2023\nTime: 11.00 – 18.00\nPlace: Online and In-Person\nPoseidonio Health\, Spa and Fitness Center\, Demokratias Av.132\, Paphos \n\nCERTIFIED LAUGHTER YOGA LEADERS TRAININGS\n1st Online Option\nMonday 28/11/2022\nTuesday 29/11/2022\nTuesday 1/12/2022\nMonday 5/12/2022\nTuesday 6/12/2022\nThursday 8/12/2022\nTime: 18.00 – 20.00 \n2nd Online and In-Person Option:\nSaturday 21/1/2023\nSunday 22/1/2023\nTime: 11.00 – 18.00\nPlace: Online and In-Person\nPoseidonio Health\, Spa and Fitness Center\, Demokratias Av.132\, Paphos \n  \nThe LAUGHTER YOGA TRAININGS will be held by Antigoni Louca\,\nMSc Physical Education Teacher\, Physiotherapist\, Certified Laughter Yoga Teacher and Holistic Wellness Coach with 30 years of experience in the field of Holistic Health and Wellness. \n  \nWhat to expect \n\nWhy do we need to laugh more today?\nWhat is Laughter Yoga? Why Laughter Yoga?\nFounders\, History\, and Philosophy of Laughter Yoga\nHealth benefits of Laughter Yoga\nThe importance of Breathing\nPranayama Breathing\nStress Release exercises\nLaughter Yoga for Wellness\nLaughter Yoga for Personal development.\nHow to apply Laughter Yoga in your daily Life\nLaughter Yoga for business\nLaughter Yoga for kids\nLaughter Yoga for adults\nLaughter Yoga for elderly\nLaughter Yoga for people with special abilities\nYoga Nidra\nLaughter Meditation and more…!\n\nRefers to \n\nAnyone that wants to add more Laughter and Joy into their lives\nBecome more Energetic and Happy\nImprove Physical and Mental Health\nBoost the Immune system\nStress Management\n\nVery useful for \n\nHealth Care Specialists\nTeachers\nCoaches\nTherapists\n\nLanguages\nEnglish\, Greek & Russian \nParticipation fee\nLAUGHTER YOGA BASIC €90\nCERTIFIED LAUGHTER YOGA LEADERS TRAINING €260 \nFor more information/registrations\nhttps://bit.ly/certifiedlaughteryogaleaders\nFB: Antigoni Louca\nLaughter Yoga by Antigoni Louca\nwww.armoniabyantigoni.com\nEmail: info@armoniabyantigoni.com\nT: 00357 99655610
URL:https://mbscyprus.com/agenda/laughter-yoga-trainings/
LOCATION:Poseidonio Health\, Spa and Fitness Center\, Demokratias Av.132\, Paphos\, Cyprus
CATEGORIES:Life / Wellness Coaching,Meditation / Mindfulness,Mental & Emotional Wellness,Movement / Dancing
ATTACH;FMTTYPE=image/jpeg:https://mbscyprus.com/wp-content/uploads/2022/10/laughter_yoga_trainings.jpg
END:VEVENT
END:VCALENDAR