BEGIN:VCALENDAR
VERSION:2.0
PRODID:-//MBS Cyprus - ECPv6.6.4//NONSGML v1.0//EN
CALSCALE:GREGORIAN
METHOD:PUBLISH
X-WR-CALNAME:MBS Cyprus
X-ORIGINAL-URL:https://mbscyprus.com
X-WR-CALDESC:Events for MBS Cyprus
REFRESH-INTERVAL;VALUE=DURATION:PT1H
X-Robots-Tag:noindex
X-PUBLISHED-TTL:PT1H
BEGIN:VTIMEZONE
TZID:Europe/Moscow
BEGIN:STANDARD
TZOFFSETFROM:+0300
TZOFFSETTO:+0300
TZNAME:MSK
DTSTART:20220101T000000
END:STANDARD
END:VTIMEZONE
BEGIN:VEVENT
DTSTART;TZID=Europe/Moscow:20220910T183000
DTEND;TZID=Europe/Moscow:20220910T220000
DTSTAMP:20260419T235815
CREATED:20220903T084141Z
LAST-MODIFIED:20220903T084141Z
UID:10000038-1662834600-1662847200@mbscyprus.com
SUMMARY:Ganeshotsav 2022
DESCRIPTION:We would like to invite you to join us in welcoming Lord Ganesha to Cyprus on Saturday\, September 10th 2022\nGaneshotsav is one of the important festivals celebrated throughout India with great devotion. This day is celebrated as the birthday of Lord Ganesh\, the elephant-headed god. Lord Ganesh is revered as the remover of obstacles (Vighnaharta)\, the patron of arts and sciences and the lord of wisdom\, prosperity\, and good fortune.\n\nThis festival is celebrated with great devotion and joy by Indians across the world. In India\, it is celebrated by all communities with equal fervor. The festival begins with the installation of huge elaborately crafted idols of Ganesha in homes and podiums\, which have been specially constructed and beautifully decorated. The 10 day celebrations include worshiping the lord\, singing\,dancing to drum beats and by lighting up fireworks– all of which add to the festive mood. \nAt the conclusion of the festival\, the idols are carried to local rivers in huge processions accompanied by drumbeats\, devotional singing\, and dancing. There they are immersed\, a ritual symbolizing Ganesha’s homeward journey to Mount Kailash—the abode of his parents\, Shiva and Parvati. \n\nIt is believed that devotees who pray to Ganesha are able to fulfill their wishes and desires. So\, the main essence of Ganesh Chaturthi is that devotees who pray to him are set free of sins and it leads them on the path of knowledge and wisdom.
URL:https://mbscyprus.com/agenda/ganeshotsav-2022/
LOCATION:Dali Amphetheatre\, 33 Agiou Georgiou str.\, Dali\, 2540\, Cyprus
CATEGORIES:Music
ATTACH;FMTTYPE=image/jpeg:https://mbscyprus.com/wp-content/uploads/2022/09/ganeshotsav-2022-indian-culture-celebration.jpg
END:VEVENT
BEGIN:VEVENT
DTSTART;TZID=Europe/Moscow:20220914T200000
DTEND;TZID=Europe/Moscow:20220914T220000
DTSTAMP:20260419T235815
CREATED:20220819T123432Z
LAST-MODIFIED:20220822T141653Z
UID:10000033-1663185600-1663192800@mbscyprus.com
SUMMARY:Ecstatic Alchemy | Online Event
DESCRIPTION:Το πρόγραμμα Ecstatic Alchemy δημιουργήθηκε με σκοπό να απελευθερωθείς απ’ ότι σε κρατάει πίσω\, όπως π.χ. παλιές συνήθειες\, πεποιθήσεις\, νοοτροπίες\, συναισθήματα κ.λπ. και να σε οδηγήσει σ’ ένα μοναδικό\, απολαυστικό\, “ερωτικό” ταξίδι με νέες εμπειρίες & ευλογημένα δώρα από ψηλά! \nΟι ορίζοντές σου θα διευρυνθούν και τα εργαλεία που θα χρησιμοποιήσουμε θα σου δοθούν με σεβασμό και αγάπη\, ώστε να σου προσφέρουν την πολύτιμη βοήθειά τους στον δρόμο της ίασης του εαυτού αλλά και της ίασης άλλων ψυχών που θα βρεθούν στον δρόμο σου\, θέλοντας να γιατρευτούν και αυτές με τη σειρά τους \nΤο πρόγραμμα απευθύνεται σε ολιστικούς θεραπευτές αλλά και σε σένα που κάνεις τώρα τα πρώτα σου βήματα στο μονοπάτι της Αυτογνωσίας\, της Αυτοΐασης & της Αυτοαγάπης. Κατά την τετράμηνη διάρκεια του προγράμματος ένας νέος κόσμος θα ανοιχτεί μπροστά σου. \nΔείτε όλες τις πληροφορείς ΕΔΩ
URL:https://mbscyprus.com/agenda/ecstatic-alchemy/
CATEGORIES:Healing,Healthy Living / Self-care,Meditation / Mindfulness,Sound Healing
ATTACH;FMTTYPE=image/jpeg:https://mbscyprus.com/wp-content/uploads/2022/08/16.9_ecstatic-alchemy.jpg
END:VEVENT
BEGIN:VEVENT
DTSTART;TZID=Europe/Moscow:20220917T080000
DTEND;TZID=Europe/Moscow:20220917T180000
DTSTAMP:20260419T235815
CREATED:20220620T094214Z
LAST-MODIFIED:20220822T135735Z
UID:10000019-1663401600-1663437600@mbscyprus.com
SUMMARY:Dharma Yoga and Wheel Workshop with Andry Sophocleous
DESCRIPTION:?? ??? ???? ????? ?? ???????? ??? ?????? ???? ??? ????? ???????? ???? ????? ???????????\, ?? ?????? ???????? ??????\, ?? ???????! \n????? ???? ???????\, join us for 3 hours of Dharma Yoga Bliss and enjoy the Dharma Yoga Wheel Practice\, Pranayama\, Yoga Nidra and Bhakti Yoga\, as taught in the Dharma Yoga Lineage by Shri Dharma Mittra. \nThe Workshop involves Inversions\, Back-bends\, Balancing\, Twists\, and the Dharma Yoga Wheel. \n??????? ????????????\n?????? ???? ?? ???????! \n?? ???? ???? ????\, send us your full name\, email address and phone number at info@mbscyprus.com with the subject ”Dharma Yoga and Wheel Workshop” \n(!) Since we will be using the Dharma Wheels\, ???? ??? ???? ???? ??????? ?????? ??? ?? ???? ?? ??? ???? ???? ??? ?????? ????? ?? ?? ??? ????? ???? ?? ?? ??????? ??? ???? ???.
URL:https://mbscyprus.com/agenda/dharma-yoga-wheel/
LOCATION:Cocoon Wellness Centre\, 130 Athalassis Avenue\, ap. 201\, Nicosia\, 2024
CATEGORIES:Yoga
ATTACH;FMTTYPE=image/jpeg:https://mbscyprus.com/wp-content/uploads/2022/01/dharma_masterclass-e1661176647619.jpg
ORGANIZER;CN="Coccoon Wellness Centre":MAILTO:cocoonwellnesscentre@gmail
END:VEVENT
BEGIN:VEVENT
DTSTART;TZID=Europe/Moscow:20220922T190000
DTEND;TZID=Europe/Moscow:20220922T203000
DTSTAMP:20260419T235815
CREATED:20220916T113639Z
LAST-MODIFIED:20220916T113958Z
UID:10000043-1663873200-1663878600@mbscyprus.com
SUMMARY:ΠΑΡΕ ΤΗ ΔΥΝΑΜΗ ΣΤΑ ΧΕΡΙΑ ΣΟΥ ΜΕ ΤΗΝ ΤΕΧΝΙΚΗ ThetaHealing®!
DESCRIPTION:FREE WEBINAR \nΠΑΡΕ ΤΗ ΔΥΝΑΜΗ ΣΤΑ ΧΕΡΙΑ ΣΟΥ ΜΕ ΤΗΝ ΤΕΧΝΙΚΗ ThetaHealing®!\nΓια να λάβεις τους κωδικούς πρόσβασης στο FREE Webinar απλά συμπλήρωσε τα στοιχεία σου ΕΔΩ \nΜε χαρά σας προσκαλούμε στο Free Webinar ΠΑΡΕ ΤΗ ΔΥΝΑΜΗ ΣΤΑ ΧΕΡΙΑ ΣΟΥ ΜΕ ΤΗΝ ΤΕΧΝΙΚΗ ThetaHealing®! \nΘα γίνει διαδικτυακά στην πλατφόρμα ZOOM. \nΤο ThetaHealing® αλλάζει τη ζωή μας και τη ζωή των γύρω μας άμεσα! \nΌταν το μυαλό μας βρίσκεται σε εγκεφαλική “συχνότητα Θήτα”\, μας δίνεται η δυνατότητα να επηρεαζουμε το υποσυνείδητο\, φέρνοντας θετικές αλλαγές και υλοποιώντας ότι θέλουμε άμεσα ! \nΕλάτε κι ανακαλύψτε πώς να: \n•Πάρετε τη Δύναμη σας πίσω\n• Αλλάζετε την πραγματικότητα μέσω των ειδικών εργαλείων της Τεχνικής\n• Θωρακίζετε την αύρα σας και να καθαρίζετε ενεργειακά τους χώρους\n• Απελευθερώσετε τα μπλοκαρισμένα αρνητικά συναισθήματα\n• Απελευθερώσετε αρνητικά προγράμματα/πεποιθήσεις που σας μπλοκάρουν\n• Μειώσετε το στρες και να πετύχετε ισορροπία στο μυαλό\, σώμα και πνεύμα\n• Βελτιώσετε Τη Σωματική σας Υγεία και Ευεξία\n• Γίνετε θεραπευτής ThetaHealing®\n• Βελτιώσετε τις σχέσεις σας\, προσελκύσετε τον Συμβατό σύντροφο Ζωής\n• Αποκτήσετε Αφθονία σε όλους τους τομείς της ζωής σας\n• Δημιουργήσετε μια θετική στάση ζωής και να βρείτε Ισορροπία και Αρμονία \nΤο Free Webinar θα γίνει από την Αντιγόνη Λουκά – ThetaHealing® Master και Certificate of Science\,  Πτυχιούχο Φυσικής Αγωγής/Φυσιοθεραπείας\, Holistic Wellness Coach με 30 χρόνια εμπειρίας στο χώρο της Ολιστικής προσέγγισης Υγείας\, Ευεξίας\, Προσωπικής Ανάπτυξης. \nΘα ακολουθήσει ΝΕΟΣ ΚΥΚΛΟΣ ΠΙΣΤΟΠΟΙΗΜΕΝΩΝ ΕΚΠΑΙΔΕΥΣΕΩΝ THETAHEALING®  : \nOnline και με φυσική παρουσία \n1) ΒΑΣΙΚΗ ΕΚΠΑΙΔΕΥΣΗ\n21\, 22\, 23/10/2022 \n2) ΠΡΟΧΩΡΗΜΕΝΗ ΕΚΠΑΙΔΕΥΣΗ\n25\, 26\, 27/11/2022 \n3) ΒΑΘΥ ΣΚΑΨΙΜΟ\n10\, 11 /12 /2022 \n4) ΕΣΥ ΚΑΙ Ο ΔΗΜΙΟΥΡΓΟΣ\n17\, 18 /12 / 2022
URL:https://mbscyprus.com/agenda/%cf%80%ce%b1%cf%81%ce%b5-%cf%84%ce%b7-%ce%b4%cf%85%ce%bd%ce%b1%ce%bc%ce%b7-%cf%83%cf%84%ce%b1-%cf%87%ce%b5%cf%81%ce%b9%ce%b1-%cf%83%ce%bf%cf%85-%ce%bc%ce%b5-%cf%84%ce%b7%ce%bd-%cf%84%ce%b5%cf%87%ce%bd/
CATEGORIES:Healing,Meditation / Mindfulness
ATTACH;FMTTYPE=image/jpeg:https://mbscyprus.com/wp-content/uploads/2022/09/syndromitiko-programma.jpg
LOCATION:https://mbscyprus.com/agenda/%cf%80%ce%b1%cf%81%ce%b5-%cf%84%ce%b7-%ce%b4%cf%85%ce%bd%ce%b1%ce%bc%ce%b7-%cf%83%cf%84%ce%b1-%cf%87%ce%b5%cf%81%ce%b9%ce%b1-%cf%83%ce%bf%cf%85-%ce%bc%ce%b5-%cf%84%ce%b7%ce%bd-%cf%84%ce%b5%cf%87%ce%bd/
END:VEVENT
BEGIN:VEVENT
DTSTART;TZID=Europe/Moscow:20220930T170000
DTEND;TZID=Europe/Moscow:20221002T170000
DTSTAMP:20260419T235815
CREATED:20220620T102358Z
LAST-MODIFIED:20220822T135341Z
UID:10000020-1664557200-1664730000@mbscyprus.com
SUMMARY:The MBS Wellbeing Gathering Retreat
DESCRIPTION:?? ??? ??????????? ??? ?? ????? ?? ??? ?ind ?ody & ?pirit ?????? ?????????????\, ??? ?? ???? ??????? ???? ?? ????? ??????\, ?????????\, ??????????\, ???????? ??? ???? ????\, ??? ??? ???? ????!\n\n?? ??? ???? ??????? ?? ???????? ??? ???????? ??? ????????? ????????? ???????!\n\n???? ?? ?? ? ??-???? ????????? ??????? to enjoy Yoga\, Music\, Meditation\, Mindfulness\, Qigong\, Nature\, Sound Healing\, Conscious Walking and more\, in the peaceful location of Tochni village\, in Larnaca district – Cyprus.\n*??????? ???!\n\n• ?? ?ℎ?? ???ℎ????? ?ℎ??? ??? ?? ?????????\, ???? ??????? ?ℎ?? ℎ????’? ??? ??? •\n\n??? ?? ??? ????????????\, ????? ???? ?? ? ??????? ?????? ?? ????????????.\n\nSome of our Facilitators will be offering extra treatments\, massages\, therapies & healing\n*???? ????? ??? ??????? ?????? ??? ????!\n_____________________________\n??? ?????????? ??? ?????-?????\, ??????????? ???????? ?? ? ??????????? ????? ????? ????????? ?????? ????????\, ???????? ????????? ??? ?????????????. All houses are fully furnished with a fitted kitchen\, living room\, balcony or patio and free Wi-Fi\n??? ?????????? ????? ? ???\, ????????? ??? ??????\, made by local and organic products. Between classes\, we will offer water\, tea\, nuts and seasonal fruits\n\n__________________________\n?? ????\, please send us your full name\, email address and your phone number at info@mbscyprus.com with the subject ”MBS Wellbeing Gathering Retreat 2022” or give us a call at tel: 96382333\n_____________________________________________\n??? ???????? ??? ????????? ????????? ???????:\nhttps://www.facebook.com/pg/mindbodyspiritcyprus/photos/?tab=album&album_id=2514458821968004
URL:https://mbscyprus.com/agenda/bliss-retreat/
LOCATION:Cyprus Villages – Agrotourism Holidays\, 3 Mersinies str. Tochni\, Larnaka\, 7740\, Cyprus
CATEGORIES:Healing,Healthy Living / Self-care,Meditation / Mindfulness,Mental & Emotional Wellness,Sound Healing,Tai chi / Qigong,Yoga
ATTACH;FMTTYPE=image/jpeg:https://mbscyprus.com/wp-content/uploads/2022/06/wellbeing-gathering-retreat-e1661176408367.jpg
ORGANIZER;CN="MBS Cyprus":MAILTO:info@mbscyprus.com
END:VEVENT
END:VCALENDAR