BEGIN:VCALENDAR
VERSION:2.0
PRODID:-//MBS Cyprus - ECPv6.6.4//NONSGML v1.0//EN
CALSCALE:GREGORIAN
METHOD:PUBLISH
X-WR-CALNAME:MBS Cyprus
X-ORIGINAL-URL:https://mbscyprus.com
X-WR-CALDESC:Events for MBS Cyprus
REFRESH-INTERVAL;VALUE=DURATION:PT1H
X-Robots-Tag:noindex
X-PUBLISHED-TTL:PT1H
BEGIN:VTIMEZONE
TZID:Europe/Moscow
BEGIN:STANDARD
TZOFFSETFROM:+0300
TZOFFSETTO:+0300
TZNAME:MSK
DTSTART:20220101T000000
END:STANDARD
END:VTIMEZONE
BEGIN:VEVENT
DTSTART;TZID=Europe/Moscow:20251227T183000
DTEND;TZID=Europe/Moscow:20251227T213000
DTSTAMP:20260425T013245
CREATED:20251103T125013Z
LAST-MODIFIED:20251208T103102Z
UID:10000136-1766860200-1766871000@mbscyprus.com
SUMMARY:Ecstatic Dance:  Integrate & Complete 2025 in the Highest Frequency!
DESCRIPTION:Let´s come together the last days of 2025 & celebrate the wins & lessons of this year.
URL:https://mbscyprus.com/agenda/ecstatic-dance/
LOCATION:The Mills Room – Tochni Retreat Village\, Q8JF+F7F Tochni\, Cyprus\, Larnaca\, 7740\, Cyprus
CATEGORIES:Community,Meditation / Mindfulness,Movement / Dancing,Music,Visualization / Manifesting
ATTACH;FMTTYPE=image/jpeg:https://mbscyprus.com/wp-content/uploads/2025/11/ecstatic-dance-mbs-closing.jpg
ORGANIZER;CN="MBS Cyprus":MAILTO:info@mbscyprus.com
GEO:34.781086865566;33.323114392152
X-APPLE-STRUCTURED-LOCATION;VALUE=URI;X-ADDRESS=The Mills Room – Tochni Retreat Village Q8JF+F7F Tochni Cyprus Larnaca 7740 Cyprus;X-APPLE-RADIUS=500;X-TITLE=Q8JF+F7F Tochni\, Cyprus:geo:33.323114392152,34.781086865566
END:VEVENT
BEGIN:VEVENT
DTSTART;TZID=Europe/Moscow:20251101T093000
DTEND;TZID=Europe/Moscow:20251102T180000
DTSTAMP:20260425T013245
CREATED:20250623T124540Z
LAST-MODIFIED:20250623T150757Z
UID:10000130-1761989400-1762106400@mbscyprus.com
SUMMARY:RETURN TO THE GODDESS WITHIN: A SACRED RETREAT
DESCRIPTION:WOMEN CIRCLE RETREAT \nA 2-day\, 1-night sacred gathering for heart-to-heart connections\, healing and empowerment. \nStep into a safe\, intimate space to: \n\nDrop the masks\nLeave behind the to-do lists\nBe your most authentic self\nConnect with a circle of supportive sisters\n\nAll in a field of love\, softness\, and deep acceptance. \n  \nYOU WILL EXPERIENCE: \n\nBreathing Techniques\nMeditation & Yoga Sessions\nFace Yoga\nJournaling & Guided Prompts\nSelf-Love and Inner Goddess Work\nDivine Feminine & Archetype Exploration\nSacred Cacao Ceremony\nHeart-opening Movement\nVagus Nerve & Nervous System Support\nAccess to SPA\nNourishing Dinner (Sat) & Breakfast (Sun)\nCreatively expression\, Laughter & Deep Sisterhood\n\n  \nInvestment for the Women’s Circle Retreat: \nThis will be a closed\, highly confidential circle of women\, so the number of participants will be intentionally small and intimate. \n  \nEarly Bird Price: €329 \nAvailable until September 1st \n\n€100 nonrefundable deposit due upon confirmation\nRemaining €229 due by September 1st \n\n  \nRegular Price: €349 \nAvailable until October 10th \n\n€100 nonrefundable deposit due upon confirmation\nRemaining €249 due by October 10th. \n\n  \nTo secure your spot\, a €100 nonrefundable deposit is required upon confirmation of attendance. The remaining balance can then be paid in full by the respective due dates listed above. \n  \n  \nWhat is included in the package \n2 day workshops \nOne night stay in a spacious\, beautiful double room \nDinner \nBreakfast \nSpa \n  \nWhat is NOT included \nAny drinks (coffees and other beverages) \nAny additional food (besides hotel dinner and hotel breakfast) \nAny personal expenses\, room service etc \n  \nContact Details of the Event Facilitator:  \nNayia Naoum \nTel. 99687005 \nInstagram: @iamnayia1111\, @nayianaoumpsychologist\, @nayianaoumyogastudio \nEmail: nayianaoum@gmail.com \n  \nMeet Your Guide \n“Nayia is a Psychologist- Psychotherapist with years of professional experience\, and also a Yoga teacher and a Women’s Circle Facilitator. \nShe adopts a holistic approach to her work rooted in the power of healing\, self-development\, self-love\, and the undivided connection of the mind\, body and spirit. Her work is dedicated to nurturing personal sovereignty and inner peace. \nShe is also an advocate and devotee of the collective awakening of the Divine Feminine\, helping women rise after centuries of patriarchal conditioning\, to come back home\, to themselves”\nFind more about Nayia on her Instagram: @iamnayia1111 | @nayianaoumyogastudio | @psychologistnayianaoum \n 
URL:https://mbscyprus.com/agenda/return-to-goddess/
LOCATION:St. Raphael Resort & Marina\, 52 Amathus Avenue\, Pyrgos\, Limassol\, 4534\, Cyprus
CATEGORIES:Community,For women,Healthy Living / Self-care,Meditation / Mindfulness,Mental & Emotional Wellness,Visualization / Manifesting,Yoga
ATTACH;FMTTYPE=image/jpeg:https://mbscyprus.com/wp-content/uploads/2025/06/RETURN-TO-GODDESS.jpg
ORGANIZER;CN="Nayia Naoum":MAILTO:nayianaoum@gmail.com
END:VEVENT
BEGIN:VEVENT
DTSTART;TZID=Europe/Moscow:20230421T120000
DTEND;TZID=Europe/Moscow:20230426T170000
DTSTAMP:20260425T013245
CREATED:20230323T111010Z
LAST-MODIFIED:20230323T134529Z
UID:10000060-1682078400-1682528400@mbscyprus.com
SUMMARY:AKASHA Empowerment and Healing System
DESCRIPTION:Certification Training-Initiation\nAKASHA Empowerment and Healing System with Jack Makani & Svetlana Charkovskaya.\nThe winds of change sweep the Earth these years. By taking training within the Akasha Empowerment and Healing System\, you will get all the spiritual connection\, necessary knowledge and methods to take advantage of the new time. \nYou can’t get the real benefit from just reading about it. What really matters are the INITIATIONS. These initiations will connect you to the powerful creation energy which is available to all of us if we want it. \nWe don’t really have material or economic crisecreatives on the planet we have a spiritual crisis. We are at a crossroad these years and we can chose to follow the path leading us towards a new golden age. \nWhy should you attend? \n\nTo develop a greater sense of well-being\, inner peace\, and self-confidence\nTo stay more centered\, balanced and safe in the most challenging\, competitive and stressful situations.\nFor personal empowerment on the levels of Mind\, Body & Soul.\nFor high-performance of the brain by connecting to the Higher Mind with easy access to the belief system.\nFor faster and more natural manifestations of what you want in life.\nFor moving forward in your life with increased clarity and purpose.\nTo become part of a supportive community of like-minded people.\n\nWho can benefit from Akasha system? \nEverybody who want to master the use of creative energy. The Akasha Healing system goes beyond the rational mind and into the wisdom\, love and power that exists behind the psychological mind. This gives less stress and more calmness in daily life and provide  individuals with the sense of being connected to her/his deepest inner being. \nOur slogan is ‘peace in the world’ because we believe that peace is created by peaceful people and people who raise their vibration tend to be more peaceful.   \nAkasha trainings help people to raise their vibrations and to become more peaceful. \n  \nYour Trainers: \nJack Makani: \n\nFounder of Akasha Empowerment and Healing System\nCo-Founder of ICTA (International Coach & Trainers Association) and\nMakani Academy\, Cyprus\nPresident of ACA (Akasha Coaching Alliance)\nNLP Master Trainer\nCoach\n\nSvetlana Charkovskaya: \n\nTrainer & Initiator in Akasha Empowerment and Healing System\nNLP Trainer\nCoach\n\nIf you want to meet Jack & Svetlana and “taste” Akasha practices before training\, we invite you to our Akasha walk in Troodos April 15.\nMore info : https://akasha-coach.com/nature-walk-cy-en
URL:https://mbscyprus.com/agenda/akasha-training/
LOCATION:Journalist Village\, Pervolia\, Larnaca.\, Makarios Avenue 9 Perivolia\, Larnaca\, 7560\, Cyprus
CATEGORIES:Healing,Healthy Living / Self-care,Life / Wellness Coaching,Meditation / Mindfulness,Mental & Emotional Wellness,Movement / Dancing,Visualization / Manifesting,Yoga
ATTACH;FMTTYPE=image/jpeg:https://mbscyprus.com/wp-content/uploads/2023/03/akasha.jpg
END:VEVENT
BEGIN:VEVENT
DTSTART;TZID=Europe/Moscow:20230127T100000
DTEND;TZID=Europe/Moscow:20230128T160000
DTSTAMP:20260425T013245
CREATED:20221018T094957Z
LAST-MODIFIED:20221021T124113Z
UID:10000046-1674813600-1674921600@mbscyprus.com
SUMMARY:It all starts with YOU
DESCRIPTION:It all starts with YOU\n  \nWhen: 27 – 28 January 2023\nDuration:from 10 until 16 o’clock\nPrice – €200 (limited places available)\nVenue: Antwork Limassol (direction https://bit.ly/3EVF34i ) \nIt all starts with you: you are the only person who has the power to transform your life or any area of it in whatever way you desire. And there’s no way to do that but by transforming yourself first. Because success is never about what we obtain\, but about who we become.\nSo\, if you’re ready to become the best version of yourself and take your life to a whole new level\, join me on this two-day unique workshop. A journey where with the help of the new and revolutionizing method of Neurographica we will do exactly that. \nThe first 5 people to join the program will receive one free 120 min coaching session with Neurographica worth 60 euros. \nThis workshop is for people who: \n● Know they want MORE\, but don’t know from where to start\n● Acknowledge the need to grow and improve themselves and are looking for ways to do it\n● Want to find a method for creating lasting change in their life\n● Have finally taken the decision to start living life by their own rules \nAre you ready to:\n● Become the master of your own life\n● Remove any negative or limiting beliefs that might be holding you back\n● Start living in complete peace with yourself and your surrounding\n● Become a better version of yourself\n● Take the first step towards a life exactly the way you want it \nIn this workshop we will learn what Neurographica is and how exactly is works and by using it we will:\n● Analyze each area of our lives and discover the one we need to focus on improving first so that all the other ones follow up more easily\n● Break through any limitation that might be stopping us from getting exactly what we want in life\n● Transform our personality on a deeper level to become the one that will attract the life we desire \nWhat you need to join: \n● The courage and willingness to try something new\n● The desire to start living in alignment with the flow of the universe\n● The hunger to take your life to a new level\n● The yearning to create and live life on your terms \nAll the materials that we will need will be provided by the facilitator! \nYou don’t need to have drawing skills or previous experience with neurographica to join the workshop!\nDrawing neurographica is easy and simple! \nHow does Neurographica help us? \nNeurographica is an amazing method that combines art and psychology. The science behind it is extensive but all you need to know is that this beautiful method allows anybody using it to literally change their brain and influence their subconscious in the way they want to\, and thus transform themselves just by simple and guided drawing. And as a result the world around them changes too.\nWith Neurographica we can work on and transform any area in our life – work\, relationships\, health\, money.\nIt helps us discover and connect with our true self and draw energy and inspiration from it. It helps us unleash our full potential and discover the resources we need to gracefully fulfill any specific task we are working on. \nAbout the facilitator Diana Gencheva\n➤ Certified Neurographica Instructor and Aesthetic Coach\n➤ Supervisor at Neurographica Bulgaria – Pavel Piskarev Learning Center\n➤ Certified Life coach at Robbins-Madanes Training\n➤ Certified Theta Healing Practitioner\n➤ Certified K-Power Instructor\nMy mission is to help people be in harmony with themselves by tapping into the hidden knowledge in the depths of their souls and turning their dreams into reality. \nFor more information:\nT: 96843903\nWebsite: dianagencheva.com
URL:https://mbscyprus.com/agenda/neurographica-workshop-selfhelp/
LOCATION:Antwork\, 169-171 Makarios ||| Avenue\, Cedars Oasis tower\, Antwork\, Limassol\, 3027\, Cyprus
CATEGORIES:Life / Wellness Coaching,Mental & Emotional Wellness,Visualization / Manifesting
ATTACH;FMTTYPE=image/jpeg:https://mbscyprus.com/wp-content/uploads/2022/10/neurographica_wellness_event-2.jpg
END:VEVENT
BEGIN:VEVENT
DTSTART;TZID=Europe/Moscow:20230114T110000
DTEND;TZID=Europe/Moscow:20230115T170000
DTSTAMP:20260425T013245
CREATED:20221025T230414Z
LAST-MODIFIED:20221223T134205Z
UID:10000047-1673694000-1673802000@mbscyprus.com
SUMMARY:Συνδρομητικό Πρόγραμμα ThetaHealing | Manifesting & Abundance
DESCRIPTION:(English text follows)\n  \nΠΙΣΤΟΠΟΙΗΜΕΝΗ ΕΚΠΑΙΔΕΥΣΗ THETAHEALING® ΥΛΟΠΟΙΗΣΗ ΚΑΙ ΑΦΘΟΝΙΑ\nΣάββατο 14/1/2023: 11:00-17:00\nΚυριακή 15/1/2023: 11:00-17:00\nΘα γίνει διαδικτυακά στην πλατφόρμα Zoom και με δυνατότητα φυσικής παρουσίας στο Aphrodite Hills\, Πάφος. \nΟλοκληρώνοντας την Εκπαίδευση\, δίνεται Διεθνής Πιστοποίηση από το Ινστιτούτο ThetaHealing®.\nΑπευθύνεται επίσης σε Θεραπευτές όλων των ειδικοτήτων\, που μπορούν να συνδυάσουν την Τεχνική και με άλλες με ασφάλεια για καλύτερα αποτελέσματα.\nΕάν θέλετε να υλοποιήσετε τα σχέδια σας και να έχετε αφθονία στη ζωή σας\, οι πεποιθήσεις σας χρειάζεται να είναι σε θέση να υποστηρίξουν την προσέλκυση των πραγμάτων που θέλετε στην ζωή σας και επίσης χρειάζεται πρώτα να αποφασίσετε ξεκάθαρα τι είναι αυτό που θέλετε.\nH Τεχνική ThetaHealing® προσφέρει εργαλεία ανακάλυψης του εαυτού σας για να χρησιμοποιήσετε τις εσωτερικές σας δυνάμεις και να γίνετε “πλούσιοι” σε όλες τις πτυχές της ζωής σας.\nΣύμφωνα με την Τεχνική ThetaHealing® η έννοια της Υλοποίησης βασίζεται στη βεβαιότητα ότι μπορούμε να δημιουργήσουμε κάτι στο φυσικό κόσμο χρησιμοποιώντας της σύνδεση με τη Συμπαντική Δημιουργική Δύναμη.\nΚάθε δήλωση\, σκέψη και πράξη αντικατοπτρίζεται σε αυτά που Υλοποιούμε στη ζωή μας.\nΚάθε απόφαση που παίρνουμε αντανακλά αυτό που διαλέγουμε να δημιουργήσουμε. Ότι σκεφτόμαστε και λέμε έχει άμεση σχέση με το αν αυτό που υλοποιούμε είναι προς όφελος μας ή όχι. Αν λέτε συνέχεια ότι είστε φτωχοί\, θα είστε. Αν λέτε και σκέφτεστε συνέχεια ότι έχετε οικονομική αφθονία\, θα έχετε.\nΈχει πολύ μεγάλη σημασία το να έχετε και να διατηρείτε ένα θετικό τρόπο σκέψης. Είναι αλήθεια ότι δημιουργούμε την πραγματικότητα μας και ότι είναι δυνατόν να Υλοποιήσουμε ότι καλύτερο υπάρχει. Αλλά χρειάζεται πρώτα να αποφασίσετε τι θέλετε να προσελκύσετε.\nΈχετε κάποιο όνειρο για τη ζωή σας; Πολλοί έχουν όνειρα αλλά όχι και την πραγματικότητα που θέλουν\, όσο και να ψάχνουν. Αυτό το Σεμινάριο σας διδάσκει πως να αλλάζετε τα πράγματα στη ζωή σας έτσι ώστε να δουλεύουν υπέρ σας. Θα σας δοθούν όλα τα θετικά Συναισθήματα τα οποία χρειάζεστε για να εδραιώσετε την Αφθονία στη ζωή σας.\nΣε αυτό το Σεμινάριο θα μάθετε πως να απελευθερώνεται αυτά τα μπλοκαρίσματα\, πως να καταστρώνετε ένα πλάνο δράσης\, πως να θέτετε τις προθέσεις σας\, και πως να υλοποιείτε άμεσα και αποτελεσματικά τους στόχους σας.\nΗ Εκπαίδευση θα γίνει από την Αντιγόνη Λουκά – ThetaHealing® Master και Certificate of Science\, Holistic Wellness Coach. \n  \n  \nMANIFESTING AND ABUNDANCE THETAHEALING® SEMINAR\nSaturday 14/1/2023: 11:00-17:00\nSunday 15/1/2023 : 11:00-17:00 \nΙn ThetaHealing®\, the concept of manifesting is the Belief that it is possible to create something on the physical level using ThetaHealing Manifesting-and-Abundance connection to the Creator of All That Is.\nEvery statement\, thought and action is reflected by what we are manifesting in our lives. Every decision is made upon the mirror reflection of what we choose to create. What we think and say have a direct bearing upon whether our manifestations are for our benefit or detriment. If you constantly say that you are poor\, you will be. If you constantly say and think that you are financially abundant\, you will be. It is of the utmost importance to stay in a positive mindset.\nThe truth is that we are creating our own reality and it is possible to manifest the best that the world has to offer. But you must first decide what it is you want in your life. Do you have a dream of experiencing the life you want? Many have that dream\, but not the reality despite much searching.\nThis Seminar uses a unique questionnaire to assist you in finding the many surprising and deeply hidden blocks standing between you and your goals. It shows you how to dig deep to clear them; teaches you about intention and Divine Timing\, followed by how to make everything in your life work for you. You are then given all the positive new Feelings you need to establish abundance in your life.\nIn this seminar you will learn how to clear these possible blocks\, how to make a plan\, to set your intentions\, and follow through on your ideas to achieve your successes. This is not a get-rich-quick manual\, but rather a universal tool of self discovery to utilize your potential to become rich in all aspects of your life. \nFor more information:\nwww.armoniabyantigoni.com\nFB: Antigoni Louca\nE: info@armoniabyantigoni.com\nT: +357 99655610\nFOR REGISTRATIONS:\nhttps://www.armoniabyantigoni.com/product/thetahealing-manifesting-and-abundance/
URL:https://mbscyprus.com/agenda/thetahealing-manifesting-abundance/
CATEGORIES:Life / Wellness Coaching,Meditation / Mindfulness,Visualization / Manifesting
ATTACH;FMTTYPE=image/png:https://mbscyprus.com/wp-content/uploads/2022/10/Manifesting-and-Abundance-1415-Jan-23-TH-banner.png
END:VEVENT
BEGIN:VEVENT
DTSTART;TZID=Europe/Moscow:20220827T100000
DTEND;TZID=Europe/Moscow:20220828T170000
DTSTAMP:20260425T013245
CREATED:20220620T090852Z
LAST-MODIFIED:20220822T142133Z
UID:10000017-1661594400-1661706000@mbscyprus.com
SUMMARY:Γίνε εσύ ο Θεραπευτής της ζωής σου
DESCRIPTION:Σεμινάριο Α Βαθμού Usui Reiki – Γίνε εσύ ο Θεραπευτής της ζωής σου\nΈλα στην παρέα μας να μάθεις τι είναι το Reiki. Έλα να βάλεις στην ζωή σου την θετικότητα και το φως. Να μάθεις να θεραπεύεις μονός σου ψυχή\, σώμα και συναίσθημα. Να ξεφύγεις από το χθες και ζεις το σήμερα κάνοντας όνειρα και σωστό προγραμματισμό για το μέλλον. Ένα μέλλον φωτεινό και επιτυχημένο. Να νοιώσεις και να βιώσεις στη ζωή σου την ευγνωμοσύνη\, την αγάπη\, τον σεβασμό\, την εκτίμηση ξεκινώντας να τα προσφέρεις στον δικό σου εαυτό πρώτα. Να προστατεύεσαι από τις αρνητές ενέργειες. \n\nΘα μιλήσουμε για να ενεργειακά μας κέντρα. Τι είναι\, πως λειτουργούν\, τις επιδράσεις στο σώμα και την ψυχολογία μας αλλά και το αντίστροφο.\nΓια τα χρώματα και τις τροφές και πως μας επηρεάζουν.\nΘα αλλάξουμε τον τρόπο σκέψεις μας και θα σταματήσουμε να φοβόμαστε\, να ανησυχούμε.\nΘα μάθουμε πρακτικά να δουλεύουμε με την ενέργεια και πως κάνουμε μια αυτοθεραπεία που μας προσφέρει χαλάρωση\, αισιοδοξία\, αποτοξίνωση\, ευεξία και γενικότερα απελευθέρωση απ’ ότι μας βαραίνει σωματικά\, νοητικά και ψυχικά.\nΕπίσης θα μάθουμε πως μπορούμε πρακτικά να τα προσφέρουμε όλα αυτά και στους συνάνθρωπους μας\, στα κατοικίδια μας και στα φυτά μας.\n\nΔιάρκεια Σεμιναρίου\n14 ώρες – δυο μέρες \nΔίνετε πιστοποιητικό δίπλωμα Α Βαθμού Usui Reiki\nΗχογραφημένοι διαλογισμοί εξάσκησης για 21 μέρες μετά το Σεμινάριο και βιβλίο Α Βαθμού. \nΓια συμμέτοχες και λεπτομέρειες καλέστε στο 99 389390 – Ελένη Φικάρδου.\nΠεριορισμένος αριθμός θέσεων. \n  \nΕπόμενες ημερομηνίες\n\n27-28/8/22\n24-25/9/22
URL:https://mbscyprus.com/agenda/reiki-seminar/2022-08-27/
LOCATION:Limassol Reiki\, Healing and Meditation Center\, ΣΤΑΥΡΑΕΤΟΥ ΜΑΧΑΙΡΑ\, Agios Athanasios\,\, Limassol\, 4104\, Cyprus
CATEGORIES:Healing,Meditation / Mindfulness,Mental & Emotional Wellness,Visualization / Manifesting
ATTACH;FMTTYPE=image/jpeg:https://mbscyprus.com/wp-content/uploads/2022/06/limassol-reiki-center-e1661178080964.jpg
ORGANIZER;CN="Limassol Reiki%2C Healing and Meditation Center":MAILTO:limassolreikicenter@gmail.com
END:VEVENT
BEGIN:VEVENT
DTSTART;TZID=Europe/Moscow:20220716T100000
DTEND;TZID=Europe/Moscow:20220717T170000
DTSTAMP:20260425T013245
CREATED:20220620T090852Z
LAST-MODIFIED:20220822T142133Z
UID:10000016-1657965600-1658077200@mbscyprus.com
SUMMARY:Γίνε εσύ ο Θεραπευτής της ζωής σου
DESCRIPTION:Σεμινάριο Α Βαθμού Usui Reiki – Γίνε εσύ ο Θεραπευτής της ζωής σου\nΈλα στην παρέα μας να μάθεις τι είναι το Reiki. Έλα να βάλεις στην ζωή σου την θετικότητα και το φως. Να μάθεις να θεραπεύεις μονός σου ψυχή\, σώμα και συναίσθημα. Να ξεφύγεις από το χθες και ζεις το σήμερα κάνοντας όνειρα και σωστό προγραμματισμό για το μέλλον. Ένα μέλλον φωτεινό και επιτυχημένο. Να νοιώσεις και να βιώσεις στη ζωή σου την ευγνωμοσύνη\, την αγάπη\, τον σεβασμό\, την εκτίμηση ξεκινώντας να τα προσφέρεις στον δικό σου εαυτό πρώτα. Να προστατεύεσαι από τις αρνητές ενέργειες. \n\nΘα μιλήσουμε για να ενεργειακά μας κέντρα. Τι είναι\, πως λειτουργούν\, τις επιδράσεις στο σώμα και την ψυχολογία μας αλλά και το αντίστροφο.\nΓια τα χρώματα και τις τροφές και πως μας επηρεάζουν.\nΘα αλλάξουμε τον τρόπο σκέψεις μας και θα σταματήσουμε να φοβόμαστε\, να ανησυχούμε.\nΘα μάθουμε πρακτικά να δουλεύουμε με την ενέργεια και πως κάνουμε μια αυτοθεραπεία που μας προσφέρει χαλάρωση\, αισιοδοξία\, αποτοξίνωση\, ευεξία και γενικότερα απελευθέρωση απ’ ότι μας βαραίνει σωματικά\, νοητικά και ψυχικά.\nΕπίσης θα μάθουμε πως μπορούμε πρακτικά να τα προσφέρουμε όλα αυτά και στους συνάνθρωπους μας\, στα κατοικίδια μας και στα φυτά μας.\n\nΔιάρκεια Σεμιναρίου\n14 ώρες – δυο μέρες \nΔίνετε πιστοποιητικό δίπλωμα Α Βαθμού Usui Reiki\nΗχογραφημένοι διαλογισμοί εξάσκησης για 21 μέρες μετά το Σεμινάριο και βιβλίο Α Βαθμού. \nΓια συμμέτοχες και λεπτομέρειες καλέστε στο 99 389390 – Ελένη Φικάρδου.\nΠεριορισμένος αριθμός θέσεων. \n  \nΕπόμενες ημερομηνίες\n\n27-28/8/22\n24-25/9/22
URL:https://mbscyprus.com/agenda/reiki-seminar/2022-07-16/
LOCATION:Limassol Reiki\, Healing and Meditation Center\, ΣΤΑΥΡΑΕΤΟΥ ΜΑΧΑΙΡΑ\, Agios Athanasios\,\, Limassol\, 4104\, Cyprus
CATEGORIES:Healing,Meditation / Mindfulness,Mental & Emotional Wellness,Visualization / Manifesting
ATTACH;FMTTYPE=image/jpeg:https://mbscyprus.com/wp-content/uploads/2022/06/limassol-reiki-center-e1661178080964.jpg
ORGANIZER;CN="Limassol Reiki%2C Healing and Meditation Center":MAILTO:limassolreikicenter@gmail.com
END:VEVENT
END:VCALENDAR