BEGIN:VCALENDAR
VERSION:2.0
PRODID:-//MBS Cyprus - ECPv6.6.4//NONSGML v1.0//EN
CALSCALE:GREGORIAN
METHOD:PUBLISH
X-WR-CALNAME:MBS Cyprus
X-ORIGINAL-URL:https://mbscyprus.com
X-WR-CALDESC:Events for MBS Cyprus
REFRESH-INTERVAL;VALUE=DURATION:PT1H
X-Robots-Tag:noindex
X-PUBLISHED-TTL:PT1H
BEGIN:VTIMEZONE
TZID:Europe/Moscow
BEGIN:STANDARD
TZOFFSETFROM:+0300
TZOFFSETTO:+0300
TZNAME:MSK
DTSTART:20260101T000000
END:STANDARD
END:VTIMEZONE
BEGIN:VEVENT
DTSTART;TZID=Europe/Moscow:20260423T140000
DTEND;TZID=Europe/Moscow:20260426T110000
DTSTAMP:20260424T235026
CREATED:20260206T093258Z
LAST-MODIFIED:20260325T122916Z
UID:10000142-1776952800-1777201200@mbscyprus.com
SUMMARY:Sound Healing & Meditation Training in Cyprus
DESCRIPTION:Sound Healing & Meditation Training | 4 Days in Cyprus\n  \nDiscover the art of deep presence through sound\, breath\, and stillness.\nThis 4-day immersive retreat\, held in a cosy home studio in Paphos\, offers a unique opportunity to learn sound healing techniques\, meditation\, and body-mind awareness in a safe and intimate setting. \nYou’ll be guided through Tibetan singing bowls\, gongs\, flat bells\, breathwork\, Yoga Nidra\, mindful cooking\, and daily morning practices — including Yoga\, Qigong\, and Anapanasati meditation. \nIdeal for both beginners and practitioners seeking to deepen their inner journey or learn how to hold sacred\, trust-filled spaces for others. \n  \n\nRetreat Highlights\n\n4-day immersive sound healing training\nDaily hands-on practice with Tibetan bowls\, gongs\, and flat bells\nGuided meditations\, Yoga Nidra\, Qigong\, and Anapanasati breathwork\nPprinted manual with sound healing techniques and protocols\nMax 5 participants for deep personal attention and safe space\nMorning practices in the garden\, surrounded by nature and stillness\nMindful cooking and shared meals as part of the practice\nCertificate of completion\nExtra night of accommodation included as a free gift\n\n\n\n🛏 Max 5 guests | All-inclusive: meals\, lodging\, training\n💶 From €999\n📍 Meditation Hub\, Cyprus\n\n\nFor the full schedule and details visit HERE
URL:https://mbscyprus.com/agenda/sound-healing-meditation-april/
LOCATION:Meditaton Hub\, Kosti Palama 16\, Konia\, Paphos\, 8300\, Cyprus
CATEGORIES:Community,Sound Healing,Tai chi / Qigong
ATTACH;FMTTYPE=image/jpeg:https://mbscyprus.com/wp-content/uploads/2026/02/katerinko-training-april-23-26-2026-1.jpg
END:VEVENT
BEGIN:VEVENT
DTSTART;VALUE=DATE:20260607
DTEND;VALUE=DATE:20260608
DTSTAMP:20260424T235026
CREATED:20230131T101437Z
LAST-MODIFIED:20260129T150734Z
UID:10000054-1780790400-1780876799@mbscyprus.com
SUMMARY:The MBS Wellbeing Day
DESCRIPTION:Join the 7th MBS Wellbeing Day!\nJoin us on this annual One-day Wellness celebration full of activities for the well-being of your Mind\, Body & Spirit!\n\n\nCome and join sound healing\, mantra singing\, yoga\, Tai-Chi\, QiGong\, experimental and alternative workshops\, the MBS Outdoor Marketplace\, meditation sessions\, dancing and a lot of fun!
URL:https://mbscyprus.com/agenda/the-mbs-wellbeing-day/
LOCATION:St. Raphael Resort & Marina\, 52 Amathus Avenue\, Pyrgos\, Limassol\, 4534\, Cyprus
CATEGORIES:Fitness,Healing,Healthy Living / Self-care,Meditation / Mindfulness,Mental & Emotional Wellness,Movement / Dancing,Music,Natural Medicine,Sound Healing,Tai chi / Qigong,Visualization / Manifesting,Yoga
ATTACH;FMTTYPE=image/jpeg:https://mbscyprus.com/wp-content/uploads/2023/01/MBS-DAY-2026-banner.jpg
ORGANIZER;CN="MBS Cyprus":MAILTO:info@mbscyprus.com
END:VEVENT
BEGIN:VEVENT
DTSTART;TZID=Europe/Moscow:20261011T120000
DTEND;TZID=Europe/Moscow:20261018T120000
DTSTAMP:20260424T235026
CREATED:20251216T122644Z
LAST-MODIFIED:20251217T095240Z
UID:10000138-1791720000-1792324800@mbscyprus.com
SUMMARY:ATELIER KAZ RETREATS | A different approach to wellness
DESCRIPTION:A restorative week in Essaouira combining Meditation\, Qi Gong\, and Feng Shui to help you slow down\, realign your energy\, and reconnect with your inner rhythm. Daily practices\, immersive workshops\, and the calming ocean setting create a sanctuary for clarity\, balance\, vitality\, and a renewed sense of flow in your life. \n\nReturn to Flow\n\nReconnect with your energy\, movement and inner rhythm. A week to realign your energy\, reconnect with your inner self\, and awaken a deeper sense of harmony. Set in the gentle Atlantic breeze of Essaouira\, this retreat invites you into a sanctuary of balance\, movement\, and intention. \n\n\nThe Essence of the Retreat\n\n\n\nThroughout the 7 days\, you will be held in an atmosphere of quietude\, warmth\, and gentle transformation. \nThis retreat is an invitation to: \n\nSlow down and reconnect\nGround your body through movement\nRealign your energy\nRecreate harmony within and around you\nEssaouira’s calming energy — the ocean\, dunes\, wind\, and light — supports your journey every step of the way.\n\n\n\n\n\n\n\n\nWhat You Will Take Home\n\n\nA renewed sense of vitality\nA deeper connection to your inner guidance\nA grounded Qi Gong practice you can continue at home\nPractical Feng Shui tools to transform your living space\nEmotional clarity\, lightness\, and peace\nA feeling of being realigned with your purpose and flow\n\n\nFor more information and registrations\, click HERE\n  \nAbout the Facilitator\nSabah Khennouf is a qualified Interior Designer\, certified Feng Shui consultant and Qi Gong practitioner.\nShe created Atelier Kaz Interior Design to assist clients creating spaces that look and feel beautiful. Originally from France\, she is working with clients locally and overseas.\nIf you are interested in Interior Design\, Feng Shui work or to join her wellness retreats\, contact her at info@atelierkaz-interiordesign.com
URL:https://mbscyprus.com/agenda/atelier-kaz-retreats/
LOCATION:Essaouira\, Morocco\, Morocco
CATEGORIES:Feng Shui,Meditation / Mindfulness,Tai chi / Qigong
ATTACH;FMTTYPE=image/png:https://mbscyprus.com/wp-content/uploads/2025/12/Banner-Essaouira-Atelier-Kaz-MBS-1280-x-720.png
END:VEVENT
BEGIN:VEVENT
DTSTART;VALUE=DATE:20261114
DTEND;VALUE=DATE:20261116
DTSTAMP:20260424T235026
CREATED:20220620T110959Z
LAST-MODIFIED:20251210T122535Z
UID:10000021-1794614400-1794787199@mbscyprus.com
SUMMARY:The Mind\, Body & Spirit Wellbeing Festival
DESCRIPTION:The MBS Wellbeing Festival offers a unique opportunity for personal and spiritual growth and development\, accessible to people from all walks of life. Join us in shedding light on the various tools and strategies that promote unity\, love\, and consciousness. Enhance your physical\, emotional\, and mental well-being\, and lead a healthier and more fulfilling life.
URL:https://mbscyprus.com/agenda/mbs-wellbeing-festival/
LOCATION:St. Raphael Resort & Marina\, 52 Amathus Avenue\, Pyrgos\, Limassol\, 4534\, Cyprus
CATEGORIES:Fitness,Healing,Healthy Living / Self-care,Life / Wellness Coaching,Meditation / Mindfulness,Mental & Emotional Wellness,Movement / Dancing,Music,Natural Medicine,Sound Healing,Tai chi / Qigong,Visualization / Manifesting,Yoga
ATTACH;FMTTYPE=image/jpeg:https://mbscyprus.com/wp-content/uploads/2025/03/MBS-WEB-BANNER_MAIN-PAGE_ISSUE-33_2025_E-scaled.jpg
ORGANIZER;CN="MBS Cyprus":MAILTO:info@mbscyprus.com
END:VEVENT
END:VCALENDAR