BEGIN:VCALENDAR
VERSION:2.0
PRODID:-//MBS Cyprus - ECPv6.6.4//NONSGML v1.0//EN
CALSCALE:GREGORIAN
METHOD:PUBLISH
X-WR-CALNAME:MBS Cyprus
X-ORIGINAL-URL:https://mbscyprus.com
X-WR-CALDESC:Events for MBS Cyprus
REFRESH-INTERVAL;VALUE=DURATION:PT1H
X-Robots-Tag:noindex
X-PUBLISHED-TTL:PT1H
BEGIN:VTIMEZONE
TZID:Europe/Moscow
BEGIN:STANDARD
TZOFFSETFROM:+0300
TZOFFSETTO:+0300
TZNAME:MSK
DTSTART:20260101T000000
END:STANDARD
END:VTIMEZONE
BEGIN:VEVENT
DTSTART;TZID=Europe/Moscow:20260207T100000
DTEND;TZID=Europe/Moscow:20260207T180000
DTSTAMP:20260426T053432
CREATED:20250513T091536Z
LAST-MODIFIED:20260219T200652Z
UID:10000124-1770458400-1770487200@mbscyprus.com
SUMMARY:The First Spinal Attunement™ Practitioner Training in Cyprus\, Limassol
DESCRIPTION:You have the opportunity to become a globally recognised and fully certified trauma informed Spinal Attunement™ practitioner after completing the first Spinal Attunement™ training in Cyprus. We are experiencing a heightened demand for this revolutionary modality and look forward to sharing the medicine to more practitioners globally. \nSpinal Attunement™ is a globally accredited practitioner program through the International Practitioners of Holistic Medicine (IPHM). It’s an advanced\, revolutionary\, multidimensional\, and accelerated trauma-informed holistic modality created by Sigourney Belle\, the visionary behind Soma Mystica®. The method combines physiotherapy\, chiropractic care\, kinesiology\, traditional chinese medicine\, vedic knowledge with esoteric teachings. We bridge neuroscience and therapeutic techniques with energetics. \nAll our experiences are stored in the nervous system connected to the spine and the body. With the Spinal Attunement™ method we find the root cause of trauma and other tensions in the neuroendocrine system through the central communication pathway – the spine – and the peripheral nervous system by using different energetic maps such as chakras and meridians together with anatomy. Focusing on the spinal breath\, with the gentle and subtle touch on different gateways we unravel stored emotions\, tensions\, traumas\, pain that are held within bodies\, and move stagnant energy – frequencies. Through awakening of the natural and healing breath of the spine\, the body can move stuck frequencies in your body that manifests as tensions\, pain\, inflammation etc. \nBy uncovering the root causes of physical\, emotional\, mental\, soul and spirit tensions\, blockages and stagnant energy\, we awaken the body’s intrinsic intelligence to heal and come back home to our inner alignment and homeostasis to live a soul-led and empowered life. \nThe Spinal Attunement™ practitioner training consists of two parts; an online part which has to be done before attending the in-person part of the training. \nONLINE TRAINING CURRICULUM\nModule 1: Self-energetics\nModule 2: Spinal Attunement Assessment\nModule 3: Objective Assessment\nModule 4: Spinal Attunement Treatment\nAdditional bonus content\nEssential and recommended readings\, researches & the manual \nIN-PERSON TRAINING CURRICULUM\nIntroduction to the Spinal Attunement Method\nReconnecting to your body\nTrauma-informed practice\nThe Anatomy of the Neuroendocrine System: spinal and pelvic anatomy\, sympathetic and parasympathetic nervous systems\nIntroduction to Esoteric Anatomy: mapping the Esoteric & Energetic systems of the body to the neuroendocrine system \nSpinal Attunement Assessment:\nSubjective observation: client’s intake form\, red and orange flags\nPre-setting the field: energetics & intention\, self-energetics\, space & client’s energetics\nDeep listening: intuitive abilities\nObjective observation: postural analysis & range of movement \nMetaphysical Symptomatology\nSpine Palpation\, Spinal Assessment\, Treatment\, Reassessment\, Integration\nTranslation of the Method to the Online & Group Spaces\nPractices for enhancing intuition\, body & energetic awareness \n  \nLocation: Limassol\, a studio training (exact location TBA)\nDates 7\, 8\, 14\, 15 & 28 February & 1st Mar 2026 from 10.00 to 18.00\n8 spots available \n  \nFor more info and application check www.ka-ya.org/trainings  \n  \nThe Spinal Attunement training with Kaya was very good organized\, the surroundings\, accommodation\, the support with the healthy and delicious food and with the yoga classes helped a lot to ground in the body\, the theory and practical parts were very well balanced as the resting time. We were able to practice enough so that I feel safe now to work with this amazing method. Every person was very respectful and lovely. I felt safe\, supported and encouraged. Kaja taught in a calm\, clear and heartfelt way. She was feeling what’s needed and helpful for the group and each individual and created a positive\, appreciative and supportive space. I always felt valued\, seen and inspired by her. She was authentic and honest and maintained the integrity of others. I value her very much as a teacher and a human being and I‘m super grateful for this experience and the knowledge and growth it brought to me. \nABOUT THE TRAINER\nKaya Pogacar is a multidimensional intuitive\, a lifelong learner in the school of life\, and a trauma-informed Spinal Attunement™ teacher and practitioner and holds a certificate of Integral Transformational Hatha & Vinyasa Yoga Teacher Training. She experienced a spontaneous activation—an awakening—during the first level of the De-Armouring Training. Just a few months after her awakening\, she created the Golden Quantum Attunement. \nFor over a decade\, Kaya has maintained a deep connection to the plant world\, particularly the rose flower. Since childhood the snake\, representing transformation and kundalini energy\, has been a strong presence in her life too. Both the rose and the king cobra hold significance as they serve as shamanic wheel medicines that work through the energetic field in her sessions\, and the Golden Ray is the primary energy she works with. \nKaya has the gifts of body clairsentience and claircognizance\, as well as a deep connection to subtle realms. They enable her to hold gentle and soft yet profound transformative and nurturing spaces. She is also a private chef\, contributed to a few cookbooks as a photographer\, author\, and editor and loves to dance. \nFollow Kaya on Instagram: @kayapoga
URL:https://mbscyprus.com/agenda/first-spinal-attunement/
LOCATION:Limassol\, Cyprus
CATEGORIES:Healing,Mental & Emotional Wellness
ATTACH;FMTTYPE=image/png:https://mbscyprus.com/wp-content/uploads/2025/05/Spinal-Attunement1.png
END:VEVENT
BEGIN:VEVENT
DTSTART;TZID=Europe/Moscow:20260405T100000
DTEND;TZID=Europe/Moscow:20260405T183000
DTSTAMP:20260426T053432
CREATED:20260204T154730Z
LAST-MODIFIED:20260204T154903Z
UID:10000141-1775383200-1775413800@mbscyprus.com
SUMMARY:The MBS Wellbeing Day Nicosia – Celebrating 25 Years
DESCRIPTION:On 5 April 2026\, Mind\, Body & Spirit Cyprus invites you to a special Wellbeing Day in Nicosia\, marking 25 years of conscious living\, community and holistic healing in Cyprus.
URL:https://mbscyprus.com/agenda/mbs-wellbeing-day-nicosia/
LOCATION:Eleftheria Square\, Nicosia\, Cyprus
CATEGORIES:Community,Energy Work/Healing,Healthy Living / Self-care,Meditation / Mindfulness,Mental & Emotional Wellness,Movement / Dancing,Music,Sound Healing,Spirituality,Tai chi / Qigong,Yoga
ATTACH;FMTTYPE=image/jpeg:https://mbscyprus.com/wp-content/uploads/2026/01/MBS-DAY-2026_NIC_EVENT_1200x628-px_B.jpg
END:VEVENT
BEGIN:VEVENT
DTSTART;TZID=Europe/Moscow:20260506T170000
DTEND;TZID=Europe/Moscow:20260520T200000
DTSTAMP:20260426T053432
CREATED:20251210T125035Z
LAST-MODIFIED:20260319T181618Z
UID:10000137-1778086800-1779307200@mbscyprus.com
SUMMARY:Reiki 1 | Course Certification
DESCRIPTION:REIKI 1 COURSE CERTIFICATION\nin Nicosia\, May 2026\n(in English\, with a training book manual available in English and Greek) \nLimited availability!\n\nI’m excited to announce my next Level 1 Reiki Energy Training in Nicosia! The course consists of  3 workshops plus a practice-only class 21 days later. \n If you want to learn how to heal yourself and others with life force energy\, then this training is for you! \n\nFor those who search for the light\, this is a great opportunity to learn the basics of Reiki\, an ancient healing modality which was revived in Japan at the beginning of the 20th century by Dr Mikao Usui.\nReiki is pure Divine love and can change one’s life for the better when used frequently and correctly. It can be performed for self-healing of mind\, body and soul as well as for healing others.\nIt’s a wonderful tool for those who want to follow a path of self-development and spiritual consciousness.\n\nThe participants will receive a Certification as First-degree Reiki practitioners \nYou will learn: \n\n\n\n\n\nHow Universal Energy works and how you can open up to its gifts\nHow to relax and come in contact with your true self and inner voice\nWays to apply reiki for healing purposes or for manifesting your heart’s desires (including sacred attunements and symbols)\nHow to be more intuitive and guided by your higher self\n\n\n\n\n\n\nYou will also have the chance to connect through a WhatsApp group in order to share in a spiritual circle of people. \nReiki is applied world-wide in private practices\, big centres and many reputable hospitals\, i.e Mayo Clinic\, John Hopkins\, Columbia and Cleveland in the US\, with wonderful results! \n  \n\nIf you are interested in learning the secrets of the energy world and working with higher love\, this will open the door for you!\n\nBy Melina Demetriou\,\nReiki Master and Teacher\,\nCertified Medical Reiki Master (Raven Keys International Registry)\nreikibymelinademetriou.com\nRegister early due to limited availability! \nDates and times\nMay 6\, 13 & 20\, (Wednesdays) at 17:00-20:00\n(The timetable can be adjusted based on participants’ needs)\n+ a 2-hour practice class to be arranged a month later \n  \nCost\n€145 including 150-pages manual \n  \nOpen to anyone interested in self-healing\, spiritual growth\, and energy work\, including physical and mental health professionals \nInfo and registration: 99530306 (phone and WhatsApp)
URL:https://mbscyprus.com/agenda/reiki-1-course-january/
LOCATION:Eternal Light\, 28 Protagorou\, Strovolos\, 2008\, Cyprus
CATEGORIES:Healing,Mental & Emotional Wellness
ATTACH;FMTTYPE=image/jpeg:https://mbscyprus.com/wp-content/uploads/2024/07/reiki-course-1-1.jpg
END:VEVENT
BEGIN:VEVENT
DTSTART;VALUE=DATE:20260607
DTEND;VALUE=DATE:20260608
DTSTAMP:20260426T053432
CREATED:20230131T101437Z
LAST-MODIFIED:20260129T150734Z
UID:10000054-1780790400-1780876799@mbscyprus.com
SUMMARY:The MBS Wellbeing Day
DESCRIPTION:Join the 7th MBS Wellbeing Day!\nJoin us on this annual One-day Wellness celebration full of activities for the well-being of your Mind\, Body & Spirit!\n\n\nCome and join sound healing\, mantra singing\, yoga\, Tai-Chi\, QiGong\, experimental and alternative workshops\, the MBS Outdoor Marketplace\, meditation sessions\, dancing and a lot of fun!
URL:https://mbscyprus.com/agenda/the-mbs-wellbeing-day/
LOCATION:St. Raphael Resort & Marina\, 52 Amathus Avenue\, Pyrgos\, Limassol\, 4534\, Cyprus
CATEGORIES:Fitness,Healing,Healthy Living / Self-care,Meditation / Mindfulness,Mental & Emotional Wellness,Movement / Dancing,Music,Natural Medicine,Sound Healing,Tai chi / Qigong,Visualization / Manifesting,Yoga
ATTACH;FMTTYPE=image/jpeg:https://mbscyprus.com/wp-content/uploads/2023/01/MBS-DAY-2026-banner.jpg
ORGANIZER;CN="MBS Cyprus":MAILTO:info@mbscyprus.com
END:VEVENT
BEGIN:VEVENT
DTSTART;VALUE=DATE:20261114
DTEND;VALUE=DATE:20261116
DTSTAMP:20260426T053432
CREATED:20220620T110959Z
LAST-MODIFIED:20251210T122535Z
UID:10000021-1794614400-1794787199@mbscyprus.com
SUMMARY:The Mind\, Body & Spirit Wellbeing Festival
DESCRIPTION:The MBS Wellbeing Festival offers a unique opportunity for personal and spiritual growth and development\, accessible to people from all walks of life. Join us in shedding light on the various tools and strategies that promote unity\, love\, and consciousness. Enhance your physical\, emotional\, and mental well-being\, and lead a healthier and more fulfilling life.
URL:https://mbscyprus.com/agenda/mbs-wellbeing-festival/
LOCATION:St. Raphael Resort & Marina\, 52 Amathus Avenue\, Pyrgos\, Limassol\, 4534\, Cyprus
CATEGORIES:Fitness,Healing,Healthy Living / Self-care,Life / Wellness Coaching,Meditation / Mindfulness,Mental & Emotional Wellness,Movement / Dancing,Music,Natural Medicine,Sound Healing,Tai chi / Qigong,Visualization / Manifesting,Yoga
ATTACH;FMTTYPE=image/jpeg:https://mbscyprus.com/wp-content/uploads/2025/03/MBS-WEB-BANNER_MAIN-PAGE_ISSUE-33_2025_E-scaled.jpg
ORGANIZER;CN="MBS Cyprus":MAILTO:info@mbscyprus.com
END:VEVENT
END:VCALENDAR