BEGIN:VCALENDAR
VERSION:2.0
PRODID:-//MBS Cyprus - ECPv6.6.4//NONSGML v1.0//EN
CALSCALE:GREGORIAN
METHOD:PUBLISH
X-WR-CALNAME:MBS Cyprus
X-ORIGINAL-URL:https://mbscyprus.com
X-WR-CALDESC:Events for MBS Cyprus
REFRESH-INTERVAL;VALUE=DURATION:PT1H
X-Robots-Tag:noindex
X-PUBLISHED-TTL:PT1H
BEGIN:VTIMEZONE
TZID:Europe/Moscow
BEGIN:STANDARD
TZOFFSETFROM:+0300
TZOFFSETTO:+0300
TZNAME:MSK
DTSTART:20220101T000000
END:STANDARD
END:VTIMEZONE
BEGIN:VEVENT
DTSTART;TZID=Europe/Moscow:20221021T150000
DTEND;TZID=Europe/Moscow:20221023T180000
DTSTAMP:20260424T223225
CREATED:20220718T120224Z
LAST-MODIFIED:20220824T100142Z
UID:10000028-1666364400-1666548000@mbscyprus.com
SUMMARY:Revive the Senses | 3-Day Yoga Retreat
DESCRIPTION:Join us on a Yoga retreat to rejuvenate the senses\, calm the mind and infuse the body with spirit. A journey of exploration that will provide insights into the 5 senses that create our reality. One by one\, each sense will be studied in detail to reveal its hidden qualities.\nThis will be a 3-day journey in which you will have the opportunity to explore your inner world with yoga\, meditation\, pranayama (breathing techniques) and sound healing. \nBy connecting with our senses on a deeper level\, we build a closer relationship with our reality and the world we live in.\n“If you change the way you look at things\, the things you look at change.” ~ Wayne Dyer\nThrough this retreat\, we will be able to address and alter this state of mind to an optimum direction towards the betterment of your life. Our senses are tools to perceive our reality and we can change the way we use them. Transforming the world we live in\, starting with ourselves\, one breath at a time! \nLocation\nParadisos Hills\, Lysos (near Polis of Chrysochou) This hotel has stunning views of the sea and surrounding mountains. It’s situated on the outskirts of the village which provides for a peaceful and quiet time during your stay.\nIt is deeply immersed in nature which makes it the perfect place to Revive the Senses! \nWhat is included?\n2-night accommodation at the Paradisos Hills Hotel.\nAll meals (vegetarian)\nTea/Coffee & Snacks\nSound Healing Sessions with Antonia\nAttendance at the retreat \nOrganisers\nDerek Doritis – Yoginspire\nWith a mission to inspire people to live with love and light\, Derek will take you on a dynamic yoga journey to awaken your spirit. He has received training in Ashtanga Vinyasa in India and Hatha Yoga in England.\nElena Malactou – Flowithin\nA yoga teacher that promotes physical and spiritual alignment and helps you transition into a fluid practice. Elena has received training in Hatha and Ashtanga Yoga and has followed Meditation studies in Cyprus.\nSpecial Guest: Antonia Michalakakou\nAntonia has the gift to take you on a sacred journey within\, through sound and vibration that offers deep relaxation and inner peace. Antonia has received her training in Scotland on MSc Music Therapy and Sound Healing in Barcelona. \nAvailable to all levels of Yoga Practitioners. \nPrices (with accommodation and all meals)\nEARLY BIRD – Valid until August 31st\nDouble Room (Per Person): €345\nSingle Room: €395 \nFull Price (After August 31st)\nDouble Room (Per Person): €395\nSingle Room: €445 \nSecure your spot! – Deposit 30% (This becomes non-refundable after the 31st of August) \nMethods of Payment\nRevolut or Bank Transfer\nContacts\nDerek Doritis: 99756464\nyoginspire.life@gmail.com\nElena Malactou: 99556578\ne.malactou@gmail.com
URL:https://mbscyprus.com/agenda/revive-senses-yoga-retreat/
LOCATION:Paradisos Hills Hotel\, 11 Evagora Pallikaridi\, Lysos\, Paphos\, 8800\, Cyprus
CATEGORIES:Healing,Healthy Living / Self-care,Meditation / Mindfulness,Mental & Emotional Wellness,Sound Healing,Yoga
ATTACH;FMTTYPE=image/jpeg:https://mbscyprus.com/wp-content/uploads/2022/07/16.9_yoga_retreat_by_derek_elena.jpg
ORGANIZER;CN="Derek Doritis":MAILTO:yoginspire.life@gmail.com
END:VEVENT
BEGIN:VEVENT
DTSTART;TZID=Europe/Moscow:20221008T110000
DTEND;TZID=Europe/Moscow:20221009T170000
DTSTAMP:20260424T223225
CREATED:20220921T110135Z
LAST-MODIFIED:20220921T110135Z
UID:10000040-1665226800-1665334800@mbscyprus.com
SUMMARY:CERTIFIED LAUGHTER YOGA LEADERS TRAINING - IN PERSON & ONLINE
DESCRIPTION:We are pleased to invite you to the CERTIFIED LAUGHTER YOGA LEADERS TRAINING! \nBASIC LAUGHTER YOGA\nSaturday 8/10/2022:\n11.00 – 17.00 \nCERTIFIED LAUGHTER YOGA LEADERS TRAINING\nSaturday 8/10/2022:\n11.00 – 17.00\nSunday 8 & 9/10/2022:\n11.00- 17.00 \nPlace Online on Zoom & In Person \nCERTIFIED LAUGHTER YOGA LEADERS TRAINING will be held by Antigoni Louca\,\nMSc Physical Education Teacher\, Physiotherapist\, Certified Laughter Yoga Teacher\, Holistic Wellness Coach with 30 years of experience in the field of Holistic Health and Wellness. \nFor more information/registrations:\nhttps://bit.ly/certifiedlaughteryogaleaders \nWhat to expect: \nBASIC LAUGHTER YOGA \nWhy do we need to laugh more today?\nWhat is Laughter Yoga? Why Laughter Yoga?\nFounders\, History\, and Philosophy of Laughter Yoga\nHealth benefits of Laughter Yoga\nThe importance of Breathing\nPranayama Breathing\nLaughter Yoga for Wellness\nLaughter Yoga for Personal Development.\nHow to apply Laughter Yoga in your daily Life\nStress Release exercises\nLaughter Dance \nCERTIFIED LAUGHTER YOGA LEADERS TRAINING \nLaughter Yoga for business\nLaughter Yoga for kids\nLaughter Yoga for adults\nLaughter Yoga for elderly\nLaughter Yoga for people with special abilities\nYoga Nidra\nLaughter Meditation and more…! \nRefers to\n• Anyone that wants to add more Laughter and Joy into their lives\n• Become more Energetic and Happy\n• Improve Physical and Mental Health\n• Boost the Immune system\n• Health Care Specialists\n• Teachers\n• Coaches \nLanguages\nEnglish\, Greek\, Russian \nParticipation fee\nLAUGHTER YOGA BASIC €90\nCERTIFIED LAUGHTER YOGA LEADERS TRAINING €260 \nFor more information/registrations\nhttps://bit.ly/certifiedlaughteryogaleaders\nF: Antigoni Louca\nLaughter Yoga by Antigoni Louca\nwww.armoniabyantigoni.com\nEmail: info@armoniabyantigoni.com\nT: 00357 99655610
URL:https://mbscyprus.com/agenda/laughter-yoga-leaders/
CATEGORIES:Healthy Living / Self-care,Mental & Emotional Wellness
ATTACH;FMTTYPE=image/jpeg:https://mbscyprus.com/wp-content/uploads/2022/09/certified-laughter-yoga-leaders-training.jpg
END:VEVENT
BEGIN:VEVENT
DTSTART;VALUE=DATE:20221002
DTEND;VALUE=DATE:20221003
DTSTAMP:20260424T223225
CREATED:20220819T124607Z
LAST-MODIFIED:20220822T134545Z
UID:10000034-1664668800-1664755199@mbscyprus.com
SUMMARY:Breathwork & Bodywork | Online Event
DESCRIPTION:Το Breathwork είναι μια φυσική μέθοδος αναπνοής. Είναι απλή αλλά ταυτόχρονα πολύ δυνατή και αποτελεσματική στην απελευθέρωση της μπλοκαρισμένης ενέργειας από το σώμα. Συνδέει και εναρμονίζει τον άνθρωπο σε σωματικό\, συναισθηματικό-νοητικό και πνευματικό επίπεδο. Τον οδηγεί βαθιά στο κέντρο του\, στην ουσία της ύπαρξής του\, στον σκοπό της ζωής του.\nΜε το Breathwork μαθαίνουμε να αναπνέουμε σταθερά και συνεχόμενα με αποτέλεσμα να οξυγονώνεται σωστά ο εγκέφαλος. Το νευρικό σύστημα αυτορυθμίζεται και ολόκληρο το σώμα ενεργοποιείται και θεραπεύεται\, αφού αρχίζει να λειτουργεί με επίγνωση\, επιτρέποντας να βγουν στην επιφάνεια όλα όσα έχει έρθει η ώρα να απελευθερωθούν. Ενεργοποιείται η αυτοθεραπευτική μας ικανότητα και μεγαλώνει ο ελεύθερος χώρος για νέες εμπειρίες\, σκέψεις και ιδέες. Βιώνουμε χαλάρωση\, γαλήνη\, ανάταση\, ενεργητικότητα και ταυτόχρονα γνωρίζουμε και κατακτάμε τις δυνάμεις μας σε φυσικό\, συναισθηματικό\, νοητικό\, πνευματικό επίπεδο. \nΔείτε όλες τις πληροφορίες ΕΔΩ
URL:https://mbscyprus.com/agenda/breathwork-bodywork-online-event/
CATEGORIES:Healing,Healthy Living / Self-care,Meditation / Mindfulness,Mental & Emotional Wellness
ATTACH;FMTTYPE=image/jpeg:https://mbscyprus.com/wp-content/uploads/2022/08/16.9_breathwork1-1.jpg
END:VEVENT
BEGIN:VEVENT
DTSTART;VALUE=DATE:20221001
DTEND;VALUE=DATE:20221004
DTSTAMP:20260424T223225
CREATED:20220813T225054Z
LAST-MODIFIED:20220829T155146Z
UID:10000030-1664582400-1664841599@mbscyprus.com
SUMMARY:Move & Recharge Retreat Vol. 2
DESCRIPTION:We are back\, getting ready for our Vol. 2 Mindful Movement Retreat!\nDo you feel the need to reconnect with your free spirit and enjoy a getaway in a serene setting in a relaxed village atmosphere? Then it’s time for you to let the body explore your authentic self\, while being part of a small community of movers.\nThroughout this healing and transformational retreat\, you will learn how your movement patterns are connected to your wellbeing; we’ll move\, dance and recharge!\nP.S. No previous experience in dance required. Bring your body just the way it is.\n— Language: Greek and English —\nAll Covid-19 designated measures will be followed.\n– – – – – – – – – – – –\n??????????:\n► 3-day getaway in a relaxed village atmosphere\n► Movement gatherings incl.\, dance therapy\, authentic movement\, ecstatic dance\, sharing circle\, games night and more\n► The ultimate group experience\, all-inclusive under one roof!\n► Healthy homemade meals\n► Free access to outdoors jacuzzi\n► Self & body awareness reflective handout pack\n????????:\n► Discover your authentic self through mind-body integration\n► Establish grounding techniques for your peace of mind\n► Align with your natural surroundings\, your mother-earth\n► Express yourself in creative and stress-relieving ways\n► Meet new people and be part of a group\n– – – – – – – – – – – –\n???? ??????? ??? ????:\n Dates: Saturday 1st – Monday 3rd October\n Location: The Retreat Centre Cyprus\, Zoopigi – https://g.page/the-retreat-centre-cyprus?share\n???????????? ????:\nhttps://forms.gle/2ZR68jfTZXDyJqcT7\n??????????:\n€250pp until 1st of September (early bird) / €290pp after 1st of September\nThe price includes: 2-night stay in a shared accommodation\, workshops\, activities\, homemade meals\, reflective journal and access to jacuzzi. The centre includes a fully equipped kitchen\, laundry facilities\, a dining area and double bedrooms (single beds). There are 3 shared showers and 3 toilets.\n??????? ???????:\n(a) Payment bank order (contact us for details)\n(b) Via Quick Pay / (c) Revolut using the phone number: +35797672144\nYou will be fully refunded in the event of cancellation. Read terms & conditions here: https://drive.google.com/…/1N1G2VKS…/view…\n??????? ???????????:\n+35799198408 (Veronica) / +35797672144 (Andrea)\nEmail us at cy.movement.workshops@gmail.com\n– – – – – – – – – – – –\n????????????:\nThis interactive and experiential retreat will be led by ?????? ??????? and ???????? ????? (BSc Psychology\, MA Dance Movement Psychotherapy). Andrea and Veronica have worked independently at mental health settings and special schools with individuals with psychosomatic and other psychological problems. Their common profession and creative approach brought them together and led to their collaboration and facilitation of various workshops\, allowing opportunities for self-expression and self-development!\n– – – – – – – – – – – –\nSpecial thanks to The Retreat Centre Cyprus for hosting us.
URL:https://mbscyprus.com/agenda/move-recharge-retreat-vol-2/
LOCATION:The Retreat Centre Cyprus\, 1 Zoodochou Pigis\, Zoopigi\, Limassol\, 4565\, Cyprus
CATEGORIES:Healthy Living / Self-care,Mental & Emotional Wellness,Movement / Dancing
ATTACH;FMTTYPE=image/jpeg:https://mbscyprus.com/wp-content/uploads/2022/08/move_recharge_retreat.jpg
END:VEVENT
BEGIN:VEVENT
DTSTART;TZID=Europe/Moscow:20220930T170000
DTEND;TZID=Europe/Moscow:20221002T170000
DTSTAMP:20260424T223225
CREATED:20220620T102358Z
LAST-MODIFIED:20220822T135341Z
UID:10000020-1664557200-1664730000@mbscyprus.com
SUMMARY:The MBS Wellbeing Gathering Retreat
DESCRIPTION:?? ??? ??????????? ??? ?? ????? ?? ??? ?ind ?ody & ?pirit ?????? ?????????????\, ??? ?? ???? ??????? ???? ?? ????? ??????\, ?????????\, ??????????\, ???????? ??? ???? ????\, ??? ??? ???? ????!\n\n?? ??? ???? ??????? ?? ???????? ??? ???????? ??? ????????? ????????? ???????!\n\n???? ?? ?? ? ??-???? ????????? ??????? to enjoy Yoga\, Music\, Meditation\, Mindfulness\, Qigong\, Nature\, Sound Healing\, Conscious Walking and more\, in the peaceful location of Tochni village\, in Larnaca district – Cyprus.\n*??????? ???!\n\n• ?? ?ℎ?? ???ℎ????? ?ℎ??? ??? ?? ?????????\, ???? ??????? ?ℎ?? ℎ????’? ??? ??? •\n\n??? ?? ??? ????????????\, ????? ???? ?? ? ??????? ?????? ?? ????????????.\n\nSome of our Facilitators will be offering extra treatments\, massages\, therapies & healing\n*???? ????? ??? ??????? ?????? ??? ????!\n_____________________________\n??? ?????????? ??? ?????-?????\, ??????????? ???????? ?? ? ??????????? ????? ????? ????????? ?????? ????????\, ???????? ????????? ??? ?????????????. All houses are fully furnished with a fitted kitchen\, living room\, balcony or patio and free Wi-Fi\n??? ?????????? ????? ? ???\, ????????? ??? ??????\, made by local and organic products. Between classes\, we will offer water\, tea\, nuts and seasonal fruits\n\n__________________________\n?? ????\, please send us your full name\, email address and your phone number at info@mbscyprus.com with the subject ”MBS Wellbeing Gathering Retreat 2022” or give us a call at tel: 96382333\n_____________________________________________\n??? ???????? ??? ????????? ????????? ???????:\nhttps://www.facebook.com/pg/mindbodyspiritcyprus/photos/?tab=album&album_id=2514458821968004
URL:https://mbscyprus.com/agenda/bliss-retreat/
LOCATION:Cyprus Villages – Agrotourism Holidays\, 3 Mersinies str. Tochni\, Larnaka\, 7740\, Cyprus
CATEGORIES:Healing,Healthy Living / Self-care,Meditation / Mindfulness,Mental & Emotional Wellness,Sound Healing,Tai chi / Qigong,Yoga
ATTACH;FMTTYPE=image/jpeg:https://mbscyprus.com/wp-content/uploads/2022/06/wellbeing-gathering-retreat-e1661176408367.jpg
ORGANIZER;CN="MBS Cyprus":MAILTO:info@mbscyprus.com
END:VEVENT
BEGIN:VEVENT
DTSTART;TZID=Europe/Moscow:20220914T200000
DTEND;TZID=Europe/Moscow:20220914T220000
DTSTAMP:20260424T223225
CREATED:20220819T123432Z
LAST-MODIFIED:20220822T141653Z
UID:10000033-1663185600-1663192800@mbscyprus.com
SUMMARY:Ecstatic Alchemy | Online Event
DESCRIPTION:Το πρόγραμμα Ecstatic Alchemy δημιουργήθηκε με σκοπό να απελευθερωθείς απ’ ότι σε κρατάει πίσω\, όπως π.χ. παλιές συνήθειες\, πεποιθήσεις\, νοοτροπίες\, συναισθήματα κ.λπ. και να σε οδηγήσει σ’ ένα μοναδικό\, απολαυστικό\, “ερωτικό” ταξίδι με νέες εμπειρίες & ευλογημένα δώρα από ψηλά! \nΟι ορίζοντές σου θα διευρυνθούν και τα εργαλεία που θα χρησιμοποιήσουμε θα σου δοθούν με σεβασμό και αγάπη\, ώστε να σου προσφέρουν την πολύτιμη βοήθειά τους στον δρόμο της ίασης του εαυτού αλλά και της ίασης άλλων ψυχών που θα βρεθούν στον δρόμο σου\, θέλοντας να γιατρευτούν και αυτές με τη σειρά τους \nΤο πρόγραμμα απευθύνεται σε ολιστικούς θεραπευτές αλλά και σε σένα που κάνεις τώρα τα πρώτα σου βήματα στο μονοπάτι της Αυτογνωσίας\, της Αυτοΐασης & της Αυτοαγάπης. Κατά την τετράμηνη διάρκεια του προγράμματος ένας νέος κόσμος θα ανοιχτεί μπροστά σου. \nΔείτε όλες τις πληροφορείς ΕΔΩ
URL:https://mbscyprus.com/agenda/ecstatic-alchemy/
CATEGORIES:Healing,Healthy Living / Self-care,Meditation / Mindfulness,Sound Healing
ATTACH;FMTTYPE=image/jpeg:https://mbscyprus.com/wp-content/uploads/2022/08/16.9_ecstatic-alchemy.jpg
END:VEVENT
BEGIN:VEVENT
DTSTART;TZID=Europe/Moscow:20220813T100000
DTEND;TZID=Europe/Moscow:20220814T180000
DTSTAMP:20260424T223225
CREATED:20220713T090938Z
LAST-MODIFIED:20220824T091251Z
UID:10000027-1660384800-1660500000@mbscyprus.com
SUMMARY:RELOAD | ANCIENT ORIENTAL PRACTICES AGAINST BURNOUT
DESCRIPTION:This event is for Russian-speaking people \n5 Masters will guide you through 10 ANCIENT ORIENTAL PRACTICES \nWhat is BURNOUT? \n? Life is like a quest “to live until Friday”.\n? Already in the morning there is lethargy\, apathy and a persistent unwillingness to do anything.\n? Frequent colds\, headaches\, blurred vision.\n? Negative attitude towards customers and colleagues.\n? The meaninglessness of life. \nHow often do people BURN OUT? \n?Haystack study (among IT companies): 83% of developers suffer from burnout\, and 81% complain that the situation has become worse during the pandemic. Of these\, 21% reported severe burnout\, 55% “moderate”. \nPURPOSE OF THE RETREAT\nStop the burnout and fill you with energy with the help of ANCIENT ORIENTAL PRACTICES. \nRETREAT PROGRAM \n? GOAL-SETTING PRACTICE \n? YOGA \n? GONG MEDITATION. \n? AROMASCANING and AROMATHERAPY \n? KUNDALINI YOGA. \n? RITUAL TO AWAKE THE INNER FIRE \n? DYNAMIC MEDITATION AND ECSTATIC DANCE. \n? SUN WORSHIP RITUAL. \n? YOGA HATHA VINYASA AND PRANAYAMA. \n? AYURVEDIC SOURCES OF YOUTH AND LONGEVITY. \n? ART – THERAPY – EBRU \n? PLEASANT AND USEFUL GIFTS FOR EVERY PARTICIPANT. \n  \nFor reservations please call 99133214 (WhatsApp\, Telegram)
URL:https://mbscyprus.com/agenda/reload-burnout/
LOCATION:Angel’s Hills Mountain Resort\, Anexartisias street\, Kambia\, Nicosia\, 2644\, Cyprus
CATEGORIES:Healing,Healthy Living / Self-care,Meditation / Mindfulness,Mental & Emotional Wellness,Sound Healing,Yoga
ATTACH;FMTTYPE=image/jpeg:https://mbscyprus.com/wp-content/uploads/2022/07/retreat-burnout-rus-e1661332238592.jpg
END:VEVENT
BEGIN:VEVENT
DTSTART;TZID=Europe/Moscow:20220625T103000
DTEND;TZID=Europe/Moscow:20220625T120000
DTSTAMP:20260424T223225
CREATED:20220617T142600Z
LAST-MODIFIED:20220617T143037Z
UID:10000012-1656153000-1656158400@mbscyprus.com
SUMMARY:“Me Time” Self Care Routine
DESCRIPTION:Today\, prioritize you!\nWe have prepared this 90-minute pampering session that focuses on wellness and self-care. \nWe will begin with a very short talk on how to care for our skin daily\, then proceed with relaxing body stretches\, a 25 min face sculpting routine targeting the neck\, jowls\, chin\, cheeks\, eyes and forehead. Face pampering will follow with our ultra hydrating and cleansing mask. This will be applied and left on during simple breathing techniques and a 20-minute Yoga Nidra deep relaxation. \nSession concludes with mask rinsing and a complimentary gift from Jacinthe. \nYou will leave relaxed with an after spa-like feeling and pampered skin. \n\n\n\n\n\n\n\n\n\nPlease bring with you\n\na clean face towel\na yoga mat\na note pad for note taking so to practice these exercises at home (optional)\n\nThe face will be prepped with a skin-neutral face cleanser\, prebiotic mist\, youth serum\, and skin nectar prior to the facial workout.
URL:https://mbscyprus.com/agenda/me-time-self-care-routine/
LOCATION:Cocoon Wellness Centre\, 130 Athalassis Avenue\, ap. 201\, Nicosia\, 2024
CATEGORIES:Healthy Living / Self-care,Natural Medicine
ATTACH;FMTTYPE=image/jpeg:https://mbscyprus.com/wp-content/uploads/2022/05/me-time-banner2.jpg
ORGANIZER;CN="Coccoon Wellness Centre":MAILTO:cocoonwellnesscentre@gmail
END:VEVENT
END:VCALENDAR