BEGIN:VCALENDAR
VERSION:2.0
PRODID:-//MBS Cyprus - ECPv6.6.4//NONSGML v1.0//EN
CALSCALE:GREGORIAN
METHOD:PUBLISH
X-ORIGINAL-URL:https://mbscyprus.com
X-WR-CALDESC:Events for MBS Cyprus
REFRESH-INTERVAL;VALUE=DURATION:PT1H
X-Robots-Tag:noindex
X-PUBLISHED-TTL:PT1H
BEGIN:VTIMEZONE
TZID:Europe/Moscow
BEGIN:STANDARD
TZOFFSETFROM:+0300
TZOFFSETTO:+0300
TZNAME:MSK
DTSTART:20220101T000000
END:STANDARD
END:VTIMEZONE
BEGIN:VEVENT
DTSTART;TZID=Europe/Moscow:20251019T120000
DTEND;TZID=Europe/Moscow:20251019T190000
DTSTAMP:20260425T005420
CREATED:20250331T130846Z
LAST-MODIFIED:20251007T145622Z
UID:10000120-1760875200-1760900400@mbscyprus.com
SUMMARY:Indian Food Festival
DESCRIPTION:Experience the Flavors of India at the Indian Food Festival!\n\n\nDate: October 19th\, 2025\nTime: 12:00 PM – 7:00 PM\nLocation: Eleftheria Square\, Nicosia\nOrganizer: Yummy India Restaurants & Cyprus India Culture Association\nEntrance: Free\n\n\nJoin us for a celebration of Indian cuisine\, featuring North and South Indian dishes\, Gujarati and Central Indian specialties\, traditional sweets\, and refreshing drinks.\nEnjoy Indian culture with music\, Kirtan\, dance performances\, and more\, including Drumming Circle with George Satya and Gong Sound Bath by Eleonora of  The Wooden House.\n\nAupported by the MBS Cyprus
URL:https://mbscyprus.com/agenda/indian-food-festival-2025/
LOCATION:Eleftheria Square\, Nicosia\, Cyprus
CATEGORIES:Food
ATTACH;FMTTYPE=image/jpeg:https://mbscyprus.com/wp-content/uploads/2025/03/diwali.jpg
END:VEVENT
BEGIN:VEVENT
DTSTART;TZID=Europe/Moscow:20241006T110000
DTEND;TZID=Europe/Moscow:20241006T160000
DTSTAMP:20260425T005420
CREATED:20240924T200136Z
LAST-MODIFIED:20240924T200136Z
UID:10000107-1728212400-1728230400@mbscyprus.com
SUMMARY:Indian Food Festival
DESCRIPTION:Experience the Flavors of India at the Indian Food Festival!\n\n\nDate: October 6th\, 2024\nTime: 11:00 AM – 4:00 PM\nLocation: Eleftheria Square\, Nicosia\nOrganizer: Cyprus India Culture Association\nMusic: Kirtan\nDance: Indian Dance Performances\nEntrance: Free\n\n\nJoin us for a celebration of Indian cuisine\, featuring North and South Indian dishes\, Gujarati and Central Indian specialties\, traditional sweets\, and refreshing drinks. Enjoy Indian culture with music\, Kirtan\, dance performances\, and more!
URL:https://mbscyprus.com/agenda/indian-food-festival/
LOCATION:Eleftheria Square\, Nicosia\, Cyprus
CATEGORIES:Food,Music
ATTACH;FMTTYPE=image/jpeg:https://mbscyprus.com/wp-content/uploads/2024/09/indian-food-festival.jpg
END:VEVENT
BEGIN:VEVENT
DTSTART;VALUE=DATE:20240317
DTEND;VALUE=DATE:20240324
DTSTAMP:20260425T005420
CREATED:20230912T150627Z
LAST-MODIFIED:20231115T112650Z
UID:10000067-1710633600-1711238399@mbscyprus.com
SUMMARY:Transformational Retreat to Egypt
DESCRIPTION:Stressed out? Overwhelmed? Need a break from the daily grind? \n  \nJoin us on a 7-day retreat to the mystical land of Cairo\, Egypt where healing\, adventure\,\nand self-discovery await. \n  \nThis Retreat is for you if… \n  \nYou’re seeking inner peace: \nIf the chaos of daily life has left you feeling overwhelmed\, this retreat offers a sanctuary to find serenity within yourself. \nYou crave adventure: \nIf you yearn to explore ancient wonders and immerse yourself in a vibrant culture\, our journey through Egypt is your ticket to adventure. \nYou’re on a quest for self-discovery: \nIf you’re ready to embark on a profound personal journey\, guided by yoga\, meditation\, and healing\, this retreat is your path to self-awareness. \nYou’re looking to connect: \nIf you seek a community of like-minded individuals and long-lasting connections\, this retreat is your opportunity to connect with kindred spirits. \n  \nContact details: hello@karmaretreats.co – +357 96084783 – Nadine \nFor more details CLICK HERE
URL:https://mbscyprus.com/agenda/transformational-retreat-to-egypt/
CATEGORIES:Food,Healing,Healthy Living / Self-care,Meditation / Mindfulness,Trips / Travelling
ATTACH;FMTTYPE=image/png:https://mbscyprus.com/wp-content/uploads/2023/09/November-Egypt-Ad-e1694531038562.png
END:VEVENT
BEGIN:VEVENT
DTSTART;VALUE=DATE:20221102
DTEND;VALUE=DATE:20221109
DTSTAMP:20260425T005420
CREATED:20220819T121922Z
LAST-MODIFIED:20220822T095508Z
UID:10000032-1667347200-1667951999@mbscyprus.com
SUMMARY:Holistic Healing & Reiki 1 Certification Retreat
DESCRIPTION:Set under bright-blue skies and surrounded by an azure blue sea\, the island of Cyprus offers you a chance to escape\, connect\, learn\, relax and heal. With a wide array of creative\, spiritual or healing activities\, guests can bespoke their own inspirational break in a supportive community environment with sandy beaches close by. Culture\, delicious Cypriot cuisines\, relaxation\, sunbathing\, sightseeing\, fun and freedom are at the heart of this creative and transformational adventure. \nA retreat that offers therapy and/or other well-being activities to help you make yourself a priority and put your life under the spotlight. As you take gentle walks in nature or at the seashore or sit quietly and meditate\, you’ll start to feel more in the now\, and your passion for life in the present moment will re-ignite. \nYou will clear your emotional fog\, declutter your mind\, calm your emotions and rid yourself of negative energy\, as you work through emotions\, such as anger\, sadness\, frustration\, fear\, jealousy\, and low self-esteem. Allowing\, joy\, liberation\, love and lightness into our hearts. You will leave having received a Reiki 1 attunement allowing you to give yourself Reiki and to give it to others through distant healing. \nInclusions:\n6 nights Bed and Breakfast in the 4* Athena Beach Hotel \nAll Breakfasts\, 4 dinners and 2 lunches \n1 full day excursion to the Baths of Aphrodite: Geroskipou Village\, St. Paraskevi Church\, St. Neofytos Monastery\, Coffee break at Polis Village\, Baths of Aphrodite (free time and lunch\, Latchi Harbour) \n1 afternoon in The Tombs of The Kings followed by a dinner at the Harbour \n1  breathtaking Sunset view BBQ Cruise (should sea condition allows): swimming stop\, use of kayaks\, BBQ meal\, live music \nReiki 1 Certified workshop \n3 Yoga Sessions \n2 Qi Gong Sessions \n1 Trauma Release Exercises session \n1 laughter yoga session \n1 Art Therapy session \n1 Aromatherapy workshop \n1 Sound Healing Meditation \n1 Cocoa Ceremony \n  \nCost:\n€ 1800 Twin share\n€ 2500 Private Room
URL:https://mbscyprus.com/agenda/healing-reiki-certification-retreat/
LOCATION:Athena Beach Hotel\, Poseidonos Avenue\, Paphos\, 8101\, Cyprus
CATEGORIES:Food,Healing,Healthy Living / Self-care,Meditation / Mindfulness,Mental & Emotional Wellness,Sound Healing,Tai chi / Qigong,Trips / Travelling,Yoga
ATTACH;FMTTYPE=image/jpeg:https://mbscyprus.com/wp-content/uploads/2022/08/16.9_healing_reiki_retreat_certificate-1.jpg
END:VEVENT
END:VCALENDAR